{
 "currentVersion": 10.91,
 "serviceDescription": "hydro/InundationPercentilesElDorado",
 "name": "hydro/InundationPercentilesElDorado",
 "description": "",
 "extent": {
  "xmin": 691029,
  "ymin": 4189607,
  "xmax": 701038,
  "ymax": 4203255,
  "spatialReference": {
   "wkid": 3744,
   "latestWkid": 3744
  }
 },
 "initialExtent": {
  "xmin": 691029,
  "ymin": 4189607,
  "xmax": 701038,
  "ymax": 4203255,
  "spatialReference": {
   "wkid": 3744,
   "latestWkid": 3744
  }
 },
 "fullExtent": {
  "xmin": 691029,
  "ymin": 4189607,
  "xmax": 701038,
  "ymax": 4203255,
  "spatialReference": {
   "wkid": 3744,
   "latestWkid": 3744
  }
 },
 "hasMultidimensions": false,
 "pixelSizeX": 1,
 "pixelSizeY": 1,
 "datasetFormat": "TIFF",
 "uncompressedSize": 136602832,
 "blockWidth": 128,
 "blockHeight": 128,
 "compressionType": "LZW",
 "bandNames": [
  "Band_1"
 ],
 "allowCopy": true,
 "allowAnalysis": true,
 "bandCount": 1,
 "noDataValue": 15,
 "noDataValues": [
  15
 ],
 "pixelType": "U8",
 "minPixelSize": 0,
 "maxPixelSize": 0,
 "copyrightText": "",
 "serviceDataType": "esriImageServiceDataTypeThematic",
 "serviceSourceType": "esriImageServiceSourceTypeDataset",
 "minValues": [
  1
 ],
 "maxValues": [
  11
 ],
 "meanValues": [
  3.6440260616821
 ],
 "stdvValues": [
  4.1089982175597
 ],
 "objectIdField": "",
 "fields": [],
 "capabilities": "Image,Metadata,Pixels,Mensuration",
 "defaultMosaicMethod": "Center",
 "allowedMosaicMethods": "",
 "sortField": "",
 "sortValue": null,
 "sortAscending": true,
 "mosaicOperator": "First",
 "defaultCompressionQuality": 75,
 "defaultResamplingMethod": "Nearest",
 "maxImageHeight": 4100,
 "maxImageWidth": 15000,
 "allowRasterFunction": true,
 "rasterFunctionInfos": [
  {
   "name": "None",
   "description": "",
   "help": ""
  }
 ],
 "rasterTypeInfos": [
  {
   "name": "Raster Dataset",
   "description": "Supports all ArcGIS Raster Datasets",
   "help": ""
  }
 ],
 "mensurationCapabilities": "Basic",
 "hasHistograms": true,
 "hasColormap": true,
 "hasRasterAttributeTable": true,
 "minScale": 0,
 "maxScale": 0,
 "exportTilesAllowed": false,
 "supportsStatistics": false,
 "supportsAdvancedQueries": false,
 "editFieldsInfo": null,
 "ownershipBasedAccessControlForRasters": null,
 "allowComputeTiePoints": false,
 "useStandardizedQueries": true,
 "advancedQueryCapabilities": {
  "useStandardizedQueries": true,
  "supportsStatistics": false,
  "supportsOrderBy": false,
  "supportsDistinct": false,
  "supportsPagination": false
 },
 "spatialReference": {
  "wkid": 3744,
  "latestWkid": 3744
 }
}