{
 "currentVersion": 10.91,
 "serviceDescription": "This raster grid shows the overlap between the two wetted extents estimated using Intermap elevation data and the merged LiDAR-NED elevation data to reconstruct the 1938 Texas Flood event in the study area.",
 "name": "TexasFlood1938/WettedExtent_Intermap_v_LiDAR_NED",
 "description": "This raster grid shows the overlap between the two wetted extents estimated using Intermap elevation data and the merged LiDAR-NED elevation data to reconstruct the 1938 Texas Flood event in the study area.",
 "extent": {
  "xmin": -99.8453702962963,
  "ymin": 30.8350923703297,
  "xmax": -98.5126851110045,
  "ymax": 31.3435182962963,
  "spatialReference": {
   "wkid": 4269,
   "latestWkid": 4269
  }
 },
 "initialExtent": {
  "xmin": -99.8453702962963,
  "ymin": 30.8350923703297,
  "xmax": -98.5126851110045,
  "ymax": 31.3435182962963,
  "spatialReference": {
   "wkid": 4269,
   "latestWkid": 4269
  }
 },
 "fullExtent": {
  "xmin": -99.8453702962963,
  "ymin": 30.8350923703297,
  "xmax": -98.5126851110045,
  "ymax": 31.3435182962963,
  "spatialReference": {
   "wkid": 4269,
   "latestWkid": 4269
  }
 },
 "pixelSizeX": 9.259259259999959E-5,
 "pixelSizeY": 9.259259259999971E-5,
 "bandCount": 1,
 "pixelType": "U4",
 "minPixelSize": 0,
 "maxPixelSize": 0,
 "copyrightText": "Jude Kastens / Kansas Biological Survey",
 "serviceDataType": "esriImageServiceDataTypeGeneric",
 "minValues": [
  0
 ],
 "maxValues": [
  3
 ],
 "meanValues": [
  0.05497935056984476
 ],
 "stdvValues": [
  0.39142017876054347
 ],
 "objectIdField": "",
 "fields": [],
 "capabilities": "Image,Metadata,Mensuration",
 "defaultMosaicMethod": "Center",
 "allowedMosaicMethods": "",
 "sortField": "",
 "sortValue": null,
 "sortAscending": true,
 "mosaicOperator": "First",
 "defaultCompressionQuality": 75,
 "defaultResamplingMethod": "Nearest",
 "maxImageHeight": 4100,
 "maxImageWidth": 15000,
 "allowRasterFunction": true,
 "rasterFunctionInfos": [
  {
   "name": "wet_imap_ned",
   "description": "A raster function template.",
   "help": ""
  },
  {
   "name": "None",
   "description": "",
   "help": ""
  }
 ],
 "rasterTypeInfos": [
  {
   "name": "Raster Dataset",
   "description": "Supports all ArcGIS Raster Datasets",
   "help": ""
  }
 ],
 "mensurationCapabilities": "Basic",
 "hasHistograms": false,
 "hasColormap": false,
 "hasRasterAttributeTable": true,
 "minScale": 0,
 "maxScale": 0,
 "exportTilesAllowed": false,
 "hasMultidimensions": false,
 "supportsStatistics": false,
 "supportsAdvancedQueries": false,
 "editFieldsInfo": null,
 "ownershipBasedAccessControlForRasters": null,
 "allowComputeTiePoints": false,
 "useStandardizedQueries": true,
 "advancedQueryCapabilities": {
  "useStandardizedQueries": true,
  "supportsStatistics": false,
  "supportsOrderBy": false,
  "supportsDistinct": false,
  "supportsPagination": false
 },
 "spatialReference": {
  "wkid": 4269,
  "latestWkid": 4269
 }
}
