{
 "currentVersion": 10.91,
 "serviceDescription": "The Kansas Biological Survey's FLDPLN (\u201cFloodplain\u201d) model and U.S. Geological Survey's 1/3 arcsecond (10-m) NED elevation data (downloaded in March 2010) were used to simulate a severe flood event that occurred in central Texas in July 1938.",
 "name": "TexasFlood1938/1938FloodDepthGrid_NED",
 "description": "The Kansas Biological Survey's FLDPLN (\u201cFloodplain\u201d) model and U.S. Geological Survey's 1/3 arcsecond (10-m) NED elevation data (downloaded in March 2010) were used to simulate a severe flood event that occurred in central Texas in July 1938.",
 "extent": {
  "xmin": -99.8453702962963,
  "ymin": 30.8350923703297,
  "xmax": -98.5126851110045,
  "ymax": 31.3435182962963,
  "spatialReference": {
   "wkid": 4269,
   "latestWkid": 4269
  }
 },
 "initialExtent": {
  "xmin": -99.8453702962963,
  "ymin": 30.8350923703297,
  "xmax": -98.5126851110045,
  "ymax": 31.3435182962963,
  "spatialReference": {
   "wkid": 4269,
   "latestWkid": 4269
  }
 },
 "fullExtent": {
  "xmin": -99.8453702962963,
  "ymin": 30.8350923703297,
  "xmax": -98.5126851110045,
  "ymax": 31.3435182962963,
  "spatialReference": {
   "wkid": 4269,
   "latestWkid": 4269
  }
 },
 "pixelSizeX": 9.259259259999959E-5,
 "pixelSizeY": 9.259259259999971E-5,
 "bandCount": 1,
 "pixelType": "F32",
 "minPixelSize": 0,
 "maxPixelSize": 0,
 "copyrightText": "Jude Kastens / Kansas Biological Survey",
 "serviceDataType": "esriImageServiceDataTypeGeneric",
 "minValues": [
  0.032808396965265274
 ],
 "maxValues": [
  55.08730697631836
 ],
 "meanValues": [
  13.11415965898271
 ],
 "stdvValues": [
  9.395630648013718
 ],
 "objectIdField": "",
 "fields": [],
 "capabilities": "Image,Metadata,Mensuration",
 "defaultMosaicMethod": "Center",
 "allowedMosaicMethods": "",
 "sortField": "",
 "sortValue": null,
 "sortAscending": true,
 "mosaicOperator": "First",
 "defaultCompressionQuality": 75,
 "defaultResamplingMethod": "Nearest",
 "maxImageHeight": 4100,
 "maxImageWidth": 15000,
 "allowRasterFunction": true,
 "rasterFunctionInfos": [
  {
   "name": "dpth_ned",
   "description": "A raster function template.",
   "help": ""
  },
  {
   "name": "None",
   "description": "",
   "help": ""
  }
 ],
 "rasterTypeInfos": [
  {
   "name": "Raster Dataset",
   "description": "Supports all ArcGIS Raster Datasets",
   "help": ""
  }
 ],
 "mensurationCapabilities": "Basic",
 "hasHistograms": false,
 "hasColormap": false,
 "hasRasterAttributeTable": false,
 "minScale": 0,
 "maxScale": 0,
 "exportTilesAllowed": false,
 "hasMultidimensions": false,
 "supportsStatistics": false,
 "supportsAdvancedQueries": false,
 "editFieldsInfo": null,
 "ownershipBasedAccessControlForRasters": null,
 "allowComputeTiePoints": false,
 "useStandardizedQueries": true,
 "advancedQueryCapabilities": {
  "useStandardizedQueries": true,
  "supportsStatistics": false,
  "supportsOrderBy": false,
  "supportsDistinct": false,
  "supportsPagination": false
 },
 "spatialReference": {
  "wkid": 4269,
  "latestWkid": 4269
 }
}