{
 "currentVersion": 10.91,
 "serviceDescription": "Test/clip_greendm1_1x1_img",
 "name": "Test/clip_greendm1_1x1_img",
 "description": "",
 "extent": {
  "xmin": -2030000.0000000051,
  "ymin": -2116999.999999996,
  "xmax": 2512999.999999995,
  "ymax": 732000.0000000042,
  "spatialReference": {
   "wkt": "PROJCS[\"Sphere_ARC_INFO_Lambert_Azimuthal_Equal_Area\",GEOGCS[\"GCS_Sphere_ARC_INFO\",DATUM[\"D_Sphere_ARC_INFO\",SPHEROID[\"Sphere_ARC_INFO\",6370997.0,0.0]],PRIMEM[\"Greenwich\",0.0],UNIT[\"Degree\",0.0174532925199433]],PROJECTION[\"Lambert_Azimuthal_Equal_Area\"],PARAMETER[\"false_easting\",0.0],PARAMETER[\"false_northing\",0.0],PARAMETER[\"central_meridian\",-100.0],PARAMETER[\"latitude_of_origin\",45.0],UNIT[\"Meter\",1.0]]"
  }
 },
 "initialExtent": {
  "xmin": -2030000.0000000051,
  "ymin": -2116999.999999996,
  "xmax": 2512999.999999995,
  "ymax": 732000.0000000042,
  "spatialReference": {
   "wkt": "PROJCS[\"Sphere_ARC_INFO_Lambert_Azimuthal_Equal_Area\",GEOGCS[\"GCS_Sphere_ARC_INFO\",DATUM[\"D_Sphere_ARC_INFO\",SPHEROID[\"Sphere_ARC_INFO\",6370997.0,0.0]],PRIMEM[\"Greenwich\",0.0],UNIT[\"Degree\",0.0174532925199433]],PROJECTION[\"Lambert_Azimuthal_Equal_Area\"],PARAMETER[\"false_easting\",0.0],PARAMETER[\"false_northing\",0.0],PARAMETER[\"central_meridian\",-100.0],PARAMETER[\"latitude_of_origin\",45.0],UNIT[\"Meter\",1.0]]"
  }
 },
 "fullExtent": {
  "xmin": -2030000.0000000051,
  "ymin": -2116999.999999996,
  "xmax": 2512999.999999995,
  "ymax": 732000.0000000042,
  "spatialReference": {
   "wkt": "PROJCS[\"Sphere_ARC_INFO_Lambert_Azimuthal_Equal_Area\",GEOGCS[\"GCS_Sphere_ARC_INFO\",DATUM[\"D_Sphere_ARC_INFO\",SPHEROID[\"Sphere_ARC_INFO\",6370997.0,0.0]],PRIMEM[\"Greenwich\",0.0],UNIT[\"Degree\",0.0174532925199433]],PROJECTION[\"Lambert_Azimuthal_Equal_Area\"],PARAMETER[\"false_easting\",0.0],PARAMETER[\"false_northing\",0.0],PARAMETER[\"central_meridian\",-100.0],PARAMETER[\"latitude_of_origin\",45.0],UNIT[\"Meter\",1.0]]"
  }
 },
 "hasMultidimensions": false,
 "pixelSizeX": 1000,
 "pixelSizeY": 1000,
 "datasetFormat": "IMAGINE Image",
 "uncompressedSize": 38829021,
 "blockWidth": 64,
 "blockHeight": 64,
 "compressionType": "RLE",
 "bandNames": [
  "Layer_1"
 ],
 "allowCopy": true,
 "allowAnalysis": true,
 "bandCount": 3,
 "noDataValue": 256,
 "noDataValues": [
  256,
  256,
  256
 ],
 "pixelType": "U8",
 "minPixelSize": 0,
 "maxPixelSize": 0,
 "copyrightText": "",
 "serviceDataType": "esriImageServiceDataTypeThematic",
 "serviceSourceType": "esriImageServiceSourceTypeDataset",
 "minValues": [],
 "maxValues": [],
 "meanValues": [],
 "stdvValues": [],
 "objectIdField": "",
 "fields": [],
 "capabilities": "Image,Metadata,Mensuration",
 "defaultMosaicMethod": "Center",
 "allowedMosaicMethods": "",
 "sortField": "",
 "sortValue": null,
 "sortAscending": true,
 "mosaicOperator": "First",
 "defaultCompressionQuality": 75,
 "defaultResamplingMethod": "Nearest",
 "maxImageHeight": 4100,
 "maxImageWidth": 15000,
 "allowRasterFunction": true,
 "rasterFunctionInfos": [
  {
   "name": "None",
   "description": "",
   "help": ""
  }
 ],
 "rasterTypeInfos": [
  {
   "name": "Raster Dataset",
   "description": "Supports all ArcGIS Raster Datasets",
   "help": ""
  }
 ],
 "mensurationCapabilities": "Basic",
 "hasHistograms": false,
 "hasColormap": false,
 "hasRasterAttributeTable": false,
 "minScale": 0,
 "maxScale": 0,
 "exportTilesAllowed": false,
 "supportsStatistics": false,
 "supportsAdvancedQueries": false,
 "editFieldsInfo": null,
 "ownershipBasedAccessControlForRasters": null,
 "allowComputeTiePoints": false,
 "useStandardizedQueries": true,
 "advancedQueryCapabilities": {
  "useStandardizedQueries": true,
  "supportsStatistics": false,
  "supportsOrderBy": false,
  "supportsDistinct": false,
  "supportsPagination": false
 },
 "spatialReference": {
  "wkt": "PROJCS[\"Sphere_ARC_INFO_Lambert_Azimuthal_Equal_Area\",GEOGCS[\"GCS_Sphere_ARC_INFO\",DATUM[\"D_Sphere_ARC_INFO\",SPHEROID[\"Sphere_ARC_INFO\",6370997.0,0.0]],PRIMEM[\"Greenwich\",0.0],UNIT[\"Degree\",0.0174532925199433]],PROJECTION[\"Lambert_Azimuthal_Equal_Area\"],PARAMETER[\"false_easting\",0.0],PARAMETER[\"false_northing\",0.0],PARAMETER[\"central_meridian\",-100.0],PARAMETER[\"latitude_of_origin\",45.0],UNIT[\"Meter\",1.0]]"
 }
}
