<?xml version="1.0" encoding="UTF-8" standalone="no"?>
<metadata xml:lang="en">
<Esri>
<MetaID>{06A6C773-A5C1-490E-8592-78B9061BDDC9}</MetaID>
<CreaDate>20090910</CreaDate>
<CreaTime>15265400</CreaTime>
<SyncOnce>FALSE</SyncOnce>
<SyncDate>20090910</SyncDate>
<SyncTime>15265500</SyncTime>
<ModDate>20090910</ModDate>
<ModTime>15265500</ModTime>
</Esri>
<idinfo>
<native Sync="FALSE">ESRI ArcCatalog 9.3.1.3000</native>
<descript>
<langdata Sync="TRUE">en</langdata>
<abstract>REQUIRED: A brief narrative summary of the data set.</abstract>
<purpose>REQUIRED: A summary of the intentions with which the data set was developed.</purpose>
</descript>
<citation>
<citeinfo>
<origin>REQUIRED: The name of an organization or individual that developed the data set.</origin>
<pubdate>REQUIRED: The date when the data set is published or otherwise made available for release.</pubdate>
<title Sync="TRUE">dtf0</title>
<ftname Sync="TRUE">dtf0</ftname>
<onlink Sync="FALSE">withheld</onlink>
<geoform Sync="TRUE">raster digital data</geoform>
</citeinfo>
</citation>
<timeperd>
<current>REQUIRED: The basis on which the time period of content information is determined.</current>
<timeinfo>
<sngdate>
<caldate>REQUIRED: The year (and optionally month, or month and day) for which the data set corresponds to the ground.</caldate>
</sngdate>
</timeinfo>
</timeperd>
<status>
<progress>REQUIRED: The state of the data set.</progress>
<update>REQUIRED: The frequency with which changes and additions are made to the data set after the initial data set is completed.</update>
</status>
<spdom>
<bounding>
<westbc Sync="TRUE">-97.477962</westbc>
<eastbc Sync="TRUE">-94.501018</eastbc>
<northbc Sync="TRUE">40.141231</northbc>
<southbc Sync="TRUE">36.906602</southbc>
</bounding>
<lboundng>
<leftbc Sync="TRUE">-97.477962</leftbc>
<rightbc Sync="TRUE">-94.501018</rightbc>
<bottombc Sync="TRUE">36.906602</bottombc>
<topbc Sync="TRUE">40.141231</topbc>
</lboundng>
</spdom>
<keywords>
<theme>
<themekt>REQUIRED: Reference to a formally registered thesaurus or a similar authoritative source of theme keywords.</themekt>
<themekey>REQUIRED: Common-use word or phrase used to describe the subject of the data set.</themekey>
</theme>
</keywords>
<accconst>REQUIRED: Restrictions and legal prerequisites for accessing the data set.</accconst>
<useconst>REQUIRED: Restrictions and legal prerequisites for using the data set after access is granted.</useconst>
<natvform Sync="TRUE">Raster Dataset</natvform>
</idinfo>
<dataIdInfo>
<envirDesc Sync="FALSE">ESRI ArcCatalog 9.3.1.3000</envirDesc>
<dataLang>
<languageCode Sync="TRUE" value="en">
</languageCode>
</dataLang>
<idCitation>
<resTitle Sync="TRUE">dtf0</resTitle>
<presForm>
<PresFormCd Sync="TRUE" value="005">
</PresFormCd>
</presForm>
</idCitation>
<spatRpType>
<SpatRepTypCd Sync="TRUE" value="002">
</SpatRepTypCd>
</spatRpType>
<dataExt>
<geoEle>
<GeoBndBox esriExtentType="native">
<westBL Sync="TRUE">-97.477962</westBL>
<eastBL Sync="TRUE">-94.501018</eastBL>
<northBL Sync="TRUE">40.141231</northBL>
<southBL Sync="TRUE">36.906602</southBL>
<exTypeCode Sync="TRUE">1</exTypeCode>
</GeoBndBox>
</geoEle>
</dataExt>
<geoBox esriExtentType="decdegrees">
<westBL Sync="TRUE">-97.477962</westBL>
<eastBL Sync="TRUE">-94.501018</eastBL>
<northBL Sync="TRUE">40.141231</northBL>
<southBL Sync="TRUE">36.906602</southBL>
<exTypeCode Sync="TRUE">1</exTypeCode>
</geoBox>
<idAbs>Severe, widespread flooding in southeast Kansas in Summer 2007 resulted in a Federal Disaster Declaration in 20 counties. Largely unprecedented in scope and magnitude, this catastrophic event exposed various information gaps affecting flood emergency response activities. In particular, there was no capability for real-time estimation of wide area floodwater extent, information vital for improving situational awareness. With the support of the Kansas Adjutant General’s Department, and using funding provided by the Kansas GIS Policy Board, the KBS FLDPLN (“Floodplain”) model was used to create a Segmented Library of Inundation Extents (SLIE) spanning 40 counties in eastern Kansas. The SLIE, which includes more than 330 stream segments, was developed during 2007-2009 using 10-m USGS NED elevation data. Using real-time and forecast river stage information from more than 130 USGS and NWS stream gages located in eastern Kansas, the SLIE allows for seamless, stage-varying estimation of floodwater extent during major riverine flood events. In addition to real-time emergency response applications, the SLIE database is also used for scenario modeling to facilitate flood disaster training exercises conducted by the Kansas Division of Emergency Management. The FLDPLN model was originally developed at KBS for river valley identification and “depth to flood” mapping. In addition to its emergency response applications, the FLDPLN model is currently used by KBS scientists for wetland stratification, river valley morphology assessment, and lake extent mapping. Use Constraints: This database is not suited for flood insurance studies or other regulatory purposes. Interpretations derived from this use are intended for planning purposes only. For more information contact Jude Kastens, jkastens@ku.edu </idAbs>
<idPurp>Depth to Flood for Eastern Kansas</idPurp>
<idCredit>Jude Kastens / Kansas Applied Remote Sensing</idCredit>
<resConst>
<Consts>
<useLimit/>
</Consts>
</resConst>
</dataIdInfo>
<metainfo>
<langmeta Sync="TRUE">en</langmeta>
<metstdn Sync="TRUE">FGDC Content Standards for Digital Geospatial Metadata</metstdn>
<metstdv Sync="TRUE">FGDC-STD-001-1998</metstdv>
<mettc Sync="TRUE">local time</mettc>
<metextns>
<onlink Sync="TRUE">http://www.esri.com/metadata/esriprof80.html</onlink>
<metprof Sync="TRUE">ESRI Metadata Profile</metprof>
</metextns>
<metc>
<cntinfo>
<cntorgp>
<cntper>REQUIRED: The person responsible for the metadata information.</cntper>
<cntorg>REQUIRED: The organization responsible for the metadata information.</cntorg>
</cntorgp>
<cntaddr>
<addrtype>REQUIRED: The mailing and/or physical address for the organization or individual.</addrtype>
<city>REQUIRED: The city of the address.</city>
<state>REQUIRED: The state or province of the address.</state>
<postal>REQUIRED: The ZIP or other postal code of the address.</postal>
</cntaddr>
<cntvoice>REQUIRED: The telephone number by which individuals can speak to the organization or individual.</cntvoice>
</cntinfo>
</metc>
<metd Sync="TRUE">20090910</metd>
</metainfo>
<mdLang>
<languageCode Sync="TRUE" value="en">
</languageCode>
</mdLang>
<mdStanName Sync="TRUE">ISO 19115 Geographic Information - Metadata</mdStanName>
<mdStanVer Sync="TRUE">DIS_ESRI1.0</mdStanVer>
<mdChar>
<CharSetCd Sync="TRUE" value="004">
</CharSetCd>
</mdChar>
<mdHrLv>
<ScopeCd Sync="TRUE" value="005">
</ScopeCd>
</mdHrLv>
<mdHrLvName Sync="TRUE">dataset</mdHrLvName>
<distInfo>
<distributor>
<distorTran>
<onLineSrc>
<linkage Sync="FALSE">withheld</linkage>
<protocol Sync="TRUE">Local Area Network</protocol>
<orDesc Sync="TRUE">002</orDesc>
</onLineSrc>
<transSize Sync="TRUE">208.016</transSize>
</distorTran>
<distorFormat>
<formatName Sync="TRUE">Raster Dataset</formatName>
</distorFormat>
</distributor>
</distInfo>
<distinfo>
<resdesc Sync="TRUE">Downloadable Data</resdesc>
<stdorder>
<digform>
<digtinfo>
<transize Sync="TRUE">208.016</transize>
<dssize Sync="TRUE">208.016</dssize>
</digtinfo>
</digform>
</stdorder>
</distinfo>
<spdoinfo>
<direct Sync="TRUE">Raster</direct>
<rastinfo>
<rasttype Sync="TRUE">Grid Cell</rasttype>
<rowcount Sync="TRUE">34934</rowcount>
<colcount Sync="TRUE">32151</colcount>
<rastxsz Sync="TRUE">0.000093</rastxsz>
<rastysz Sync="TRUE">0.000093</rastysz>
<rastbpp Sync="TRUE">32</rastbpp>
<vrtcount Sync="TRUE">1</vrtcount>
<rastorig Sync="TRUE">Upper Left</rastorig>
<rastcmap Sync="TRUE">FALSE</rastcmap>
<rastcomp Sync="TRUE">Default</rastcomp>
<rastband Sync="TRUE">1</rastband>
<rastdtyp Sync="TRUE">matrix values</rastdtyp>
<rastplyr Sync="TRUE">TRUE</rastplyr>
<rastifor Sync="TRUE">GRID</rastifor>
</rastinfo>
</spdoinfo>
<spref>
<horizsys>
<cordsysn>
<geogcsn Sync="TRUE">GCS_North_American_1983</geogcsn>
</cordsysn>
<geograph>
<geogunit Sync="TRUE">Decimal degrees</geogunit>
<latres Sync="TRUE">0.000000</latres>
<longres Sync="TRUE">0.000000</longres>
</geograph>
<geodetic>
<horizdn Sync="TRUE">North American Datum of 1983</horizdn>
<ellips Sync="TRUE">Geodetic Reference System 80</ellips>
<semiaxis Sync="TRUE">6378137.000000</semiaxis>
<denflat Sync="TRUE">298.257222</denflat>
</geodetic>
<planar>
<planci>
<plance Sync="TRUE">row and column</plance>
<coordrep>
<absres Sync="TRUE">0.000093</absres>
<ordres Sync="TRUE">0.000093</ordres>
</coordrep>
</planci>
</planar>
</horizsys>
</spref>
<refSysInfo>
<RefSystem>
<refSysID>
<identCode Sync="TRUE">GCS_North_American_1983</identCode>
</refSysID>
</RefSystem>
</refSysInfo>
<spatRepInfo>
<GridSpatRep>
<numDims Sync="TRUE">2</numDims>
<axDimProps>
<Dimen>
<dimName>
<DimNameTypCd Sync="TRUE" value="002">
</DimNameTypCd>
</dimName>
<dimSize Sync="TRUE">32151</dimSize>
<dimResol>
<value Sync="TRUE">0.000093</value>
<uom>
<UomLength>
<uomName Sync="TRUE">Degree</uomName>
</UomLength>
</uom>
</dimResol>
</Dimen>
<Dimen>
<dimName>
<DimNameTypCd Sync="TRUE" value="001">
</DimNameTypCd>
</dimName>
<dimSize Sync="TRUE">34934</dimSize>
<dimResol>
<value Sync="TRUE">0.000093</value>
<uom>
<UomLength>
<uomName Sync="TRUE">Degree</uomName>
</UomLength>
</uom>
</dimResol>
</Dimen>
</axDimProps>
<cellGeo>
<CellGeoCd Sync="TRUE" value="002">
</CellGeoCd>
</cellGeo>
<tranParaAv Sync="TRUE">1</tranParaAv>
</GridSpatRep>
</spatRepInfo>
<mdDateSt Sync="TRUE">20090910</mdDateSt>
</metadata>
