{
 "currentVersion": 10.91,
 "serviceDescription": "Normalized difference vegetation index (NDVI) data from the Moderate Resolution Imaging Spectroradiometer (MODIS) were used to characterize the spatial dynamics of agriculture in the state of Mato Grosso (MT), Brazil. With these data, it has become possible to track MT agriculture, which accounts for ~85% of Brazilian Amazon soy production. To interpret the satellite data, researchers from Empresa Brasileira de Pesquisa Agropecuária (Embrapa), the Brazilian equivalent of the USDA, collected an unprecedented amount of ground reference data in Mato Grosso by interviewing farmers, tracing field boundaries on printed satellite imagery and obtaining cropping histories for various parcels of land. This unique, spatially extensive 9-year (2005-2013) ground reference dataset was used to classify, with approximately 80% accuracy, the MODIS NDVI data. The results were merged with carefully processed annual forest and sugarcane coverages developed by Brazil's National Institute for Space Research (INPE) to produce land cover maps for MT for the 2001-2014 crop years, where a crop year runs from August of the preceding year through July of the nominal year. Static urban and water layers, obtained from the Brazilian Institute of Geography and Statistics (IBGE), round out the land cover maps.",
 "name": "MatoGrosso/2005_CropYear",
 "description": "Normalized difference vegetation index (NDVI) data from the Moderate Resolution Imaging Spectroradiometer (MODIS) were used to characterize the spatial dynamics of agriculture in the state of Mato Grosso (MT), Brazil. With these data, it has become possible to track MT agriculture, which accounts for ~85% of Brazilian Amazon soy production. To interpret the satellite data, researchers from Empresa Brasileira de Pesquisa Agropecuária (Embrapa), the Brazilian equivalent of the USDA, collected an unprecedented amount of ground reference data in Mato Grosso by interviewing farmers, tracing field boundaries on printed satellite imagery and obtaining cropping histories for various parcels of land. This unique, spatially extensive 9-year (2005-2013) ground reference dataset was used to classify, with approximately 80% accuracy, the MODIS NDVI data. The results were merged with carefully processed annual forest and sugarcane coverages developed by Brazil's National Institute for Space Research (INPE) to produce land cover maps for MT for the 2001-2014 crop years, where a crop year runs from August of the preceding year through July of the nominal year. Static urban and water layers, obtained from the Brazilian Institute of Geography and Statistics (IBGE), round out the land cover maps.",
 "extent": {
  "xmin": -6883680,
  "ymin": -2057280,
  "xmax": -5557200,
  "ymax": -813840,
  "spatialReference": {
   "wkid": 102100,
   "latestWkid": 3857
  }
 },
 "initialExtent": {
  "xmin": -6883680,
  "ymin": -2057280,
  "xmax": -5557200,
  "ymax": -813840,
  "spatialReference": {
   "wkid": 102100,
   "latestWkid": 3857
  }
 },
 "fullExtent": {
  "xmin": -6883680,
  "ymin": -2057280,
  "xmax": -5557200,
  "ymax": -813840,
  "spatialReference": {
   "wkid": 102100,
   "latestWkid": 3857
  }
 },
 "hasMultidimensions": false,
 "pixelSizeX": 240,
 "pixelSizeY": 240,
 "datasetFormat": "IMAGINE Image",
 "uncompressedSize": 28635387,
 "blockWidth": 64,
 "blockHeight": 64,
 "compressionType": "RLE",
 "bandNames": [
  "Layer_1"
 ],
 "allowCopy": true,
 "allowAnalysis": true,
 "bandCount": 1,
 "noDataValue": 0,
 "noDataValues": [
  0
 ],
 "pixelType": "U8",
 "minPixelSize": 0,
 "maxPixelSize": 0,
 "copyrightText": "Kansas Biological Survey / Kansas Applied Remote Sensing Program",
 "serviceDataType": "esriImageServiceDataTypeThematic",
 "serviceSourceType": "esriImageServiceSourceTypeDataset",
 "minValues": [
  1
 ],
 "maxValues": [
  9
 ],
 "meanValues": [
  4.2675385658833
 ],
 "stdvValues": [
  0.8303957845764
 ],
 "objectIdField": "",
 "fields": [],
 "capabilities": "Mensuration,Image,Metadata",
 "defaultMosaicMethod": "Center",
 "allowedMosaicMethods": "",
 "sortField": "",
 "sortValue": null,
 "sortAscending": true,
 "mosaicOperator": "First",
 "defaultCompressionQuality": 75,
 "defaultResamplingMethod": "Nearest",
 "maxImageHeight": 4100,
 "maxImageWidth": 15000,
 "allowRasterFunction": true,
 "rasterFunctionInfos": [
  {
   "name": "MattoGrassoLandcover",
   "description": "A raster function template.",
   "help": ""
  },
  {
   "name": "None",
   "description": "",
   "help": ""
  }
 ],
 "rasterTypeInfos": [
  {
   "name": "Raster Dataset",
   "description": "Supports all ArcGIS Raster Datasets",
   "help": ""
  }
 ],
 "mensurationCapabilities": "Basic",
 "hasHistograms": true,
 "hasColormap": false,
 "hasRasterAttributeTable": true,
 "minScale": 0,
 "maxScale": 0,
 "exportTilesAllowed": false,
 "supportsStatistics": false,
 "supportsAdvancedQueries": false,
 "editFieldsInfo": null,
 "ownershipBasedAccessControlForRasters": null,
 "allowComputeTiePoints": false,
 "useStandardizedQueries": true,
 "advancedQueryCapabilities": {
  "useStandardizedQueries": true,
  "supportsStatistics": false,
  "supportsOrderBy": false,
  "supportsDistinct": false,
  "supportsPagination": false
 },
 "spatialReference": {
  "wkid": 102100,
  "latestWkid": 3857
 }
}