{
 "currentVersion": 10.91,
 "serviceDescription": "Kansas LIDAR shaded relief 2 meters resolution layer. Last updated: February 10, 2018. Kansas LIDAR data collection started in 2006 and was completed in 2017. Data source: Kansas Data Access and Support Center (DASC); https://www.kansasgis.org Data processed: Kansas Applied Remote Sensing Program at the Kansas Biological Survey. For any questions regarding this layer please contact: Jude Kastens jkastens@ku.edu",
 "name": "KansasLiDAR/KansasLIDAR2MeterShadedRelief",
 "description": "Kansas LIDAR shaded relief 2 meters resolution layer. Last updated: February 10, 2018. Kansas LIDAR data collection started in 2006 and was completed in 2017. Data source: Kansas Data Access and Support Center (DASC); https://www.kansasgis.org Data processed: Kansas Applied Remote Sensing Program at the Kansas Biological Survey. For any questions regarding this layer please contact: Jude Kastens jkastens@ku.edu",
 "extent": {
  "xmin": -11380764,
  "ymin": 4426398,
  "xmax": -10508084,
  "ymax": 4914824,
  "spatialReference": {
   "wkid": 102100,
   "latestWkid": 3857
  }
 },
 "initialExtent": {
  "xmin": -11380764,
  "ymin": 4426398,
  "xmax": -10508084,
  "ymax": 4914824,
  "spatialReference": {
   "wkid": 102100,
   "latestWkid": 3857
  }
 },
 "fullExtent": {
  "xmin": -11380764,
  "ymin": 4426398,
  "xmax": -10508084,
  "ymax": 4914824,
  "spatialReference": {
   "wkid": 102100,
   "latestWkid": 3857
  }
 },
 "hasMultidimensions": false,
 "pixelSizeX": 2,
 "pixelSizeY": 2,
 "datasetFormat": "TIFF",
 "uncompressedSize": 106559900420,
 "blockWidth": 128,
 "blockHeight": 128,
 "compressionType": "LZW",
 "bandNames": [
  "Band_1"
 ],
 "allowCopy": true,
 "allowAnalysis": true,
 "bandCount": 1,
 "noDataValue": 255,
 "noDataValues": [
  255
 ],
 "pixelType": "U8",
 "minPixelSize": 0,
 "maxPixelSize": 0,
 "copyrightText": "Kansas Applied Remote Sensing Program / Kansas Biological Survey.",
 "serviceDataType": "esriImageServiceDataTypeThematic",
 "serviceSourceType": "esriImageServiceSourceTypeDataset",
 "minValues": [
  0
 ],
 "maxValues": [
  254
 ],
 "meanValues": [
  179.30167542889
 ],
 "stdvValues": [
  7.9505613722293
 ],
 "objectIdField": "",
 "fields": [],
 "capabilities": "Mensuration,Image,Metadata",
 "defaultMosaicMethod": "Center",
 "allowedMosaicMethods": "",
 "sortField": "",
 "sortValue": null,
 "sortAscending": true,
 "mosaicOperator": "First",
 "defaultCompressionQuality": 75,
 "defaultResamplingMethod": "Nearest",
 "maxImageHeight": 4100,
 "maxImageWidth": 15000,
 "allowRasterFunction": true,
 "rasterFunctionInfos": [
  {
   "name": "ks_lidar_2m_shdrlf_10feb2018",
   "description": "A raster function template.",
   "help": ""
  },
  {
   "name": "None",
   "description": "",
   "help": ""
  }
 ],
 "rasterTypeInfos": [
  {
   "name": "Raster Dataset",
   "description": "Supports all ArcGIS Raster Datasets",
   "help": ""
  }
 ],
 "mensurationCapabilities": "Basic",
 "hasHistograms": true,
 "hasColormap": false,
 "hasRasterAttributeTable": true,
 "minScale": 0,
 "maxScale": 0,
 "exportTilesAllowed": false,
 "supportsStatistics": false,
 "supportsAdvancedQueries": false,
 "editFieldsInfo": null,
 "ownershipBasedAccessControlForRasters": null,
 "allowComputeTiePoints": false,
 "useStandardizedQueries": true,
 "advancedQueryCapabilities": {
  "useStandardizedQueries": true,
  "supportsStatistics": false,
  "supportsOrderBy": false,
  "supportsDistinct": false,
  "supportsPagination": false
 },
 "spatialReference": {
  "wkid": 102100,
  "latestWkid": 3857
 }
}
