<?xml version="1.0" encoding="UTF-8" standalone="no"?>
<metadata xml:lang="en">
<Esri>
<CreaDate>20180227</CreaDate>
<CreaTime>09030900</CreaTime>
<ArcGISFormat>1.0</ArcGISFormat>
<ArcGISstyle>FGDC CSDGM Metadata</ArcGISstyle>
<SyncOnce>FALSE</SyncOnce>
<DataProperties>
<itemProps>
<itemName Sync="TRUE">ks_lidar_2m_shdrlf_10feb2018.tif</itemName>
<imsContentType Sync="TRUE">002</imsContentType>
<nativeExtBox>
<westBL Sync="TRUE">-11380764.000000</westBL>
<eastBL Sync="TRUE">-10508084.000000</eastBL>
<southBL Sync="TRUE">4426398.000000</southBL>
<northBL Sync="TRUE">4914824.000000</northBL>
<exTypeCode Sync="TRUE">1</exTypeCode>
</nativeExtBox>
</itemProps>
<coordRef>
<type Sync="TRUE">Projected</type>
<geogcsn Sync="TRUE">GCS_WGS_1984</geogcsn>
<csUnits Sync="TRUE">Linear Unit: Meter (1.000000)</csUnits>
<projcsn Sync="TRUE">WGS_1984_Web_Mercator_Auxiliary_Sphere</projcsn>
<peXml Sync="TRUE">&lt;ProjectedCoordinateSystem xsi:type='typens:ProjectedCoordinateSystem' xmlns:xsi='http://www.w3.org/2001/XMLSchema-instance' xmlns:xs='http://www.w3.org/2001/XMLSchema' xmlns:typens='http://www.esri.com/schemas/ArcGIS/2.8.0'&gt;&lt;WKT&gt;PROJCS[&amp;quot;WGS_1984_Web_Mercator_Auxiliary_Sphere&amp;quot;,GEOGCS[&amp;quot;GCS_WGS_1984&amp;quot;,DATUM[&amp;quot;D_WGS_1984&amp;quot;,SPHEROID[&amp;quot;WGS_1984&amp;quot;,6378137.0,298.257223563]],PRIMEM[&amp;quot;Greenwich&amp;quot;,0.0],UNIT[&amp;quot;Degree&amp;quot;,0.0174532925199433]],PROJECTION[&amp;quot;Mercator_Auxiliary_Sphere&amp;quot;],PARAMETER[&amp;quot;False_Easting&amp;quot;,0.0],PARAMETER[&amp;quot;False_Northing&amp;quot;,0.0],PARAMETER[&amp;quot;Central_Meridian&amp;quot;,0.0],PARAMETER[&amp;quot;Standard_Parallel_1&amp;quot;,0.0],PARAMETER[&amp;quot;Auxiliary_Sphere_Type&amp;quot;,0.0],UNIT[&amp;quot;Meter&amp;quot;,1.0],AUTHORITY[&amp;quot;EPSG&amp;quot;,3857]]&lt;/WKT&gt;&lt;XOrigin&gt;-20037700&lt;/XOrigin&gt;&lt;YOrigin&gt;-30241100&lt;/YOrigin&gt;&lt;XYScale&gt;148923141.92838538&lt;/XYScale&gt;&lt;ZOrigin&gt;-100000&lt;/ZOrigin&gt;&lt;ZScale&gt;10000&lt;/ZScale&gt;&lt;MOrigin&gt;-100000&lt;/MOrigin&gt;&lt;MScale&gt;10000&lt;/MScale&gt;&lt;XYTolerance&gt;0.001&lt;/XYTolerance&gt;&lt;ZTolerance&gt;0.001&lt;/ZTolerance&gt;&lt;MTolerance&gt;0.001&lt;/MTolerance&gt;&lt;HighPrecision&gt;true&lt;/HighPrecision&gt;&lt;WKID&gt;102100&lt;/WKID&gt;&lt;LatestWKID&gt;3857&lt;/LatestWKID&gt;&lt;/ProjectedCoordinateSystem&gt;</peXml>
</coordRef>
<RasterProperties>
<General>
<PixelDepth Sync="TRUE">8</PixelDepth>
<HasColormap Sync="TRUE">FALSE</HasColormap>
<CompressionType Sync="TRUE">LZW</CompressionType>
<NumBands Sync="TRUE">1</NumBands>
<Format Sync="TRUE">TIFF</Format>
<HasPyramids Sync="TRUE">TRUE</HasPyramids>
<SourceType Sync="TRUE">discrete</SourceType>
<PixelType Sync="TRUE">unsigned integer</PixelType>
<NoDataValue Sync="TRUE">255</NoDataValue>
</General>
</RasterProperties>
</DataProperties>
<SyncDate>20220213</SyncDate>
<SyncTime>09445500</SyncTime>
<ModDate>20220213</ModDate>
<ModTime>09445500</ModTime>
<scaleRange>
<minScale>50000</minScale>
<maxScale>5000</maxScale>
</scaleRange>
<ArcGISProfile>FGDC</ArcGISProfile>
</Esri>
<dataIdInfo>
<envirDesc Sync="FALSE">Esri ArcGIS 12.8.0.29751</envirDesc>
<dataLang>
<languageCode Sync="TRUE" value="eng">
</languageCode>
<countryCode Sync="TRUE" value="USA">
</countryCode>
</dataLang>
<idCitation>
<resTitle Sync="FALSE">Kansas LIDAR Shaded Relief 2 Meters Resolution -February 10, 2018</resTitle>
<presForm>
<PresFormCd Sync="TRUE" value="005">
</PresFormCd>
</presForm>
</idCitation>
<spatRpType>
<SpatRepTypCd Sync="TRUE" value="002">
</SpatRepTypCd>
</spatRpType>
<dataExt>
<geoEle>
<GeoBndBox esriExtentType="search">
<exTypeCode Sync="TRUE">1</exTypeCode>
<westBL Sync="TRUE">-102.235142</westBL>
<eastBL Sync="TRUE">-94.395725</eastBL>
<northBL Sync="TRUE">40.335550</northBL>
<southBL Sync="TRUE">36.908769</southBL>
</GeoBndBox>
</geoEle>
</dataExt>
<idPurp>Kansas LIDAR shaded relief 2 meters resolution layer. Data source: Kansas Data Access and Support Center (DASC); https://www.kansasgis.org Data processed:...</idPurp>
<idAbs>Kansas LIDAR shaded relief 2 meters resolution layer. Last updated: February 10, 2018. Kansas LIDAR data collection started in 2006 and was completed in 2017. Data source: Kansas Data Access and Support Center (DASC); https://www.kansasgis.org Data processed: Kansas Applied Remote Sensing Program at the Kansas Biological Survey. For any questions regarding this layer please contact: Jude Kastens jkastens@ku.edu</idAbs>
<idCredit>Kansas Applied Remote Sensing Program / Kansas Biological Survey.</idCredit>
<searchKeys>
<keyword>Kansas</keyword>
<keyword>lidar</keyword>
<keyword>shaded relief</keyword>
</searchKeys>
<resConst>
<Consts>
<useLimit>The Kansas Biological Survey (KBS) and its representatives make no warranty or representation, either expressed or implied, with respect to the digital data and their documentation, their quality, performance, merchantability, or fitness for a particular purpose. The digital data are distributed on "as is" basis, and the user assumes all risk as to their quality, the results obtained from their use, and the performance of the data. In no event will the KBS or its representatives be liable for any direct, indirect, special, incidental or consequential damages resulting from and defect in the KBS's digital data or in their documentation. This disclaimer of warranty is exclusive and in lieu of all others, oral or written, expressed or implied. No agent or employee is authorized to make any modification, extension, or addition to this warranty.</useLimit>
</Consts>
</resConst>
<idPoC>
<rpIndName>Jude Kastens</rpIndName>
<rpOrgName>Kansas Applied Remote Sensing Program at the Kansas Biological Survey. </rpOrgName>
<rpPosName>Associate Professor </rpPosName>
<role>
<RoleCd value="006">
</RoleCd>
</role>
<rpCntInfo>
<cntAddress addressType="physical">
<delPoint>Higuchi Hall, 2101 Constant Avenue</delPoint>
<city>Lawrence</city>
<adminArea>Kansas</adminArea>
<postCode>66047-3759</postCode>
<eMailAdd>jkastens@ku.edu</eMailAdd>
<country>US</country>
</cntAddress>
<cntPhone>
<voiceNum tddtty="">785-864-1519</voiceNum>
<faxNum>785-864-1534</faxNum>
</cntPhone>
</rpCntInfo>
</idPoC>
</dataIdInfo>
<mdLang>
<languageCode Sync="TRUE" value="eng">
</languageCode>
<countryCode Sync="TRUE" value="USA">
</countryCode>
</mdLang>
<mdChar>
<CharSetCd Sync="TRUE" value="004">
</CharSetCd>
</mdChar>
<distInfo>
<distFormat>
<formatName Sync="TRUE">Raster Dataset</formatName>
</distFormat>
</distInfo>
<mdHrLv>
<ScopeCd Sync="TRUE" value="005">
</ScopeCd>
</mdHrLv>
<mdHrLvName Sync="TRUE">dataset</mdHrLvName>
<refSysInfo>
<RefSystem>
<refSysID>
<identCode Sync="TRUE" code="3857">
</identCode>
<idCodeSpace Sync="TRUE">EPSG</idCodeSpace>
<idVersion Sync="TRUE">6.18.3(9.3.1.2)</idVersion>
</refSysID>
</RefSystem>
</refSysInfo>
<spatRepInfo>
<Georect>
<cellGeo>
<CellGeoCd Sync="TRUE" value="002">
</CellGeoCd>
</cellGeo>
<numDims Sync="TRUE">2</numDims>
<tranParaAv Sync="TRUE">1</tranParaAv>
<chkPtAv Sync="TRUE">0</chkPtAv>
<cornerPts>
<pos Sync="TRUE">-11380764.000000 4426398.000000</pos>
</cornerPts>
<cornerPts>
<pos Sync="TRUE">-11380764.000000 4914824.000000</pos>
</cornerPts>
<cornerPts>
<pos Sync="TRUE">-10508084.000000 4914824.000000</pos>
</cornerPts>
<cornerPts>
<pos Sync="TRUE">-10508084.000000 4426398.000000</pos>
</cornerPts>
<centerPt>
<pos Sync="TRUE">-10944424.000000 4670611.000000</pos>
</centerPt>
<axisDimension type="002">
<dimSize Sync="TRUE">436340</dimSize>
<dimResol>
<value Sync="TRUE" uom="m">2.000000</value>
</dimResol>
</axisDimension>
<axisDimension type="001">
<dimSize Sync="TRUE">244213</dimSize>
<dimResol>
<value Sync="TRUE" uom="m">2.000000</value>
</dimResol>
</axisDimension>
<ptInPixel>
<PixOrientCd Sync="TRUE" value="001">
</PixOrientCd>
</ptInPixel>
</Georect>
</spatRepInfo>
<eainfo>
<detailed Name="ks_lidar_2m_shdrlf_10feb2018.tif.vat">
<enttyp>
<enttypl Sync="TRUE">ks_lidar_2m_shdrlf_10feb2018.tif.vat</enttypl>
<enttypt Sync="TRUE">Table</enttypt>
<enttypc Sync="TRUE">255</enttypc>
</enttyp>
<attr>
<attrlabl Sync="TRUE">OID</attrlabl>
<attalias Sync="TRUE">OID</attalias>
<attrtype Sync="TRUE">OID</attrtype>
<attwidth Sync="TRUE">4</attwidth>
<atprecis Sync="TRUE">0</atprecis>
<attscale Sync="TRUE">0</attscale>
<attrdef Sync="TRUE">Internal feature number.</attrdef>
<attrdefs Sync="TRUE">Esri</attrdefs>
<attrdomv>
<udom Sync="TRUE">Sequential unique whole numbers that are automatically generated.</udom>
</attrdomv>
</attr>
<attr>
<attrlabl Sync="TRUE">Value</attrlabl>
<attalias Sync="TRUE">Value</attalias>
<attrtype Sync="TRUE">Integer</attrtype>
<attwidth Sync="TRUE">9</attwidth>
<atprecis Sync="TRUE">9</atprecis>
<attscale Sync="TRUE">0</attscale>
</attr>
<attr>
<attrlabl Sync="TRUE">Count</attrlabl>
<attalias Sync="TRUE">Count</attalias>
<attrtype Sync="TRUE">Double</attrtype>
<attwidth Sync="TRUE">19</attwidth>
<atprecis Sync="TRUE">0</atprecis>
<attscale Sync="TRUE">0</attscale>
</attr>
</detailed>
</eainfo>
<contInfo>
<ImgDesc>
<contentTyp>
<ContentTypCd Sync="TRUE" value="002">
</ContentTypCd>
</contentTyp>
<covDim>
<Band>
<dimDescrp Sync="TRUE">Band_1</dimDescrp>
<maxVal Sync="TRUE">254.000000</maxVal>
<minVal Sync="TRUE">0.000000</minVal>
<bitsPerVal Sync="TRUE">8</bitsPerVal>
<valUnit>
<UOM type="length">
</UOM>
</valUnit>
</Band>
</covDim>
</ImgDesc>
</contInfo>
<mdDateSt Sync="TRUE">20220213</mdDateSt>
<mdContact>
<rpIndName>Jorgina A. Ross</rpIndName>
<rpOrgName>Kansas Applied Remote Sensing / Kansas Biological Survey</rpOrgName>
<rpPosName>GIS Specialist</rpPosName>
<role>
<RoleCd value="007">
</RoleCd>
</role>
<rpCntInfo>
<cntAddress addressType="physical">
<delPoint>Higuchi Hall, 2101 Constant Avenue</delPoint>
<city>Lawrence</city>
<adminArea>Kansas</adminArea>
<postCode>66047-3759</postCode>
<eMailAdd>ginaross@ku.edu</eMailAdd>
<country>US</country>
</cntAddress>
<cntPhone>
<voiceNum tddtty="">785-864-1524</voiceNum>
<faxNum>785-1534</faxNum>
</cntPhone>
</rpCntInfo>
</mdContact>
</metadata>
