{ "currentVersion": 10.91, "serviceDescription": "

Citation<\/SPAN><\/SPAN>: Kansas Applied Remote Sensing Program. 2001. Kansas GAP Land Cover Map. Available at <\/SPAN><\/SPAN>http://kars.ku.edu/geonetwork/srv/en/main.home<\/SPAN><\/SPAN><\/A>(accessed {DATE}; verified {DATE}. Kansas Applied Remote Sensing Program, Kansas Biological Survey, University of Kansas, Lawrence, Kansas. <\/SPAN><\/SPAN><\/P>
The Kansas GAP land cover map was developed to meet the requirements of Gap Analysis and to fill the need for a detailed map of land cover at the vegetation alliance level. Sponsorship for the Kansas GAP land cover map came from a number of state and federal agencies that provided support through both direct funding and in-kind aid (Table 1 of the final report). The alliance-level land cover map was developed using multi-seasonal Landsat Thematic Mapper imagery and a hybrid classification approach. Assessment of the map\u2019s accuracy was conducted using independent ground verification samples and standard accuracy assessment analysis and reporting procedures. Details of the classification methodology, accuracy assessment, results, and discussion are presented in the final report.<\/SPAN><\/SPAN><\/P>
GAP data and final report can be downloaded at the Kansas Biological Survey Metadata Catalog; <\/SPAN><\/SPAN><\/P>
http://kars.ku.edu/geonetwork/srv/en/main.home<\/SPAN><\/SPAN><\/A><\/P><\/DIV><\/DIV><\/DIV>", "name": "KansasLandCover/KansasLandCover_GAP", "description": "

Citation<\/SPAN><\/SPAN>: Kansas Applied Remote Sensing Program. 2001. Kansas GAP Land Cover Map. Available at <\/SPAN><\/SPAN>http://kars.ku.edu/geonetwork/srv/en/main.home<\/SPAN><\/SPAN><\/A>(accessed {DATE}; verified {DATE}. Kansas Applied Remote Sensing Program, Kansas Biological Survey, University of Kansas, Lawrence, Kansas. <\/SPAN><\/SPAN><\/P>
The Kansas GAP land cover map was developed to meet the requirements of Gap Analysis and to fill the need for a detailed map of land cover at the vegetation alliance level. Sponsorship for the Kansas GAP land cover map came from a number of state and federal agencies that provided support through both direct funding and in-kind aid (Table 1 of the final report). The alliance-level land cover map was developed using multi-seasonal Landsat Thematic Mapper imagery and a hybrid classification approach. Assessment of the map\u2019s accuracy was conducted using independent ground verification samples and standard accuracy assessment analysis and reporting procedures. Details of the classification methodology, accuracy assessment, results, and discussion are presented in the final report.<\/SPAN><\/SPAN><\/P>
GAP data and final report can be downloaded at the Kansas Biological Survey Metadata Catalog; <\/SPAN><\/SPAN><\/P>
http://kars.ku.edu/geonetwork/srv/en/main.home<\/SPAN><\/SPAN><\/A><\/P><\/DIV><\/DIV><\/DIV>", "extent": { "xmin": 229295.921875, "ymin": 4094580.5, "xmax": 890045.9218749999, "ymax": 4434120.5, "spatialReference": {"wkt": "PROJCS[\"UTM_Zone_14_Northern_Hemisphere\",GEOGCS[\"GCS_Undefined\",DATUM[\"D_Undefined\",SPHEROID[\"Clarke_1866\",6378206.4,294.9786982]],PRIMEM[\"Greenwich\",0.0],UNIT[\"Degree\",0.0174532925199433]],PROJECTION[\"Transverse_Mercator\"],PARAMETER[\"false_easting\",500000.0],PARAMETER[\"false_northing\",0.0],PARAMETER[\"central_meridian\",-99.0],PARAMETER[\"scale_factor\",0.9996],PARAMETER[\"latitude_of_origin\",0.0],UNIT[\"Meter\",1.0]]"} }, "initialExtent": { "xmin": 229295.921875, "ymin": 4094580.5, "xmax": 890045.9218749999, "ymax": 4434120.5, "spatialReference": {"wkt": "PROJCS[\"UTM_Zone_14_Northern_Hemisphere\",GEOGCS[\"GCS_Undefined\",DATUM[\"D_Undefined\",SPHEROID[\"Clarke_1866\",6378206.4,294.9786982]],PRIMEM[\"Greenwich\",0.0],UNIT[\"Degree\",0.0174532925199433]],PROJECTION[\"Transverse_Mercator\"],PARAMETER[\"false_easting\",500000.0],PARAMETER[\"false_northing\",0.0],PARAMETER[\"central_meridian\",-99.0],PARAMETER[\"scale_factor\",0.9996],PARAMETER[\"latitude_of_origin\",0.0],UNIT[\"Meter\",1.0]]"} }, "fullExtent": { "xmin": 229295.921875, "ymin": 4094580.5, "xmax": 890045.9218749999, "ymax": 4434120.5, "spatialReference": {"wkt": "PROJCS[\"UTM_Zone_14_Northern_Hemisphere\",GEOGCS[\"GCS_Undefined\",DATUM[\"D_Undefined\",SPHEROID[\"Clarke_1866\",6378206.4,294.9786982]],PRIMEM[\"Greenwich\",0.0],UNIT[\"Degree\",0.0174532925199433]],PROJECTION[\"Transverse_Mercator\"],PARAMETER[\"false_easting\",500000.0],PARAMETER[\"false_northing\",0.0],PARAMETER[\"central_meridian\",-99.0],PARAMETER[\"scale_factor\",0.9996],PARAMETER[\"latitude_of_origin\",0.0],UNIT[\"Meter\",1.0]]"} }, "hasMultidimensions": false, "pixelSizeX": 29.999999999999996, "pixelSizeY": 30, "datasetFormat": "IMAGINE Image", "uncompressedSize": 249278950, "blockWidth": 64, "blockHeight": 64, "compressionType": "None", "bandNames": [ "Layer_1" ], "allowCopy": true, "allowAnalysis": true, "bandCount": 1, "pixelType": "U8", "minPixelSize": 0, "maxPixelSize": 0, "copyrightText": "Kansas Applied Remote Sensing Program / Kansas Biological Survey", "serviceDataType": "esriImageServiceDataTypeThematic", "serviceSourceType": "esriImageServiceSourceTypeDataset", "minValues": [ 0 ], "maxValues": [ 82 ], "meanValues": [ 32.438323223842 ], "stdvValues": [ 16.563029121925 ], "objectIdField": "", "fields": [], "capabilities": "Image,Metadata,Mensuration", "defaultMosaicMethod": "Center", "allowedMosaicMethods": "", "sortField": "", "sortValue": null, "sortAscending": true, "mosaicOperator": "First", "defaultCompressionQuality": 75, "defaultResamplingMethod": "Nearest", "maxImageHeight": 4100, "maxImageWidth": 15000, "allowRasterFunction": true, "rasterFunctionInfos": [ { "name": "ks_final1002", "description": "A raster function template.", "help": "" }, { "name": "None", "description": "", "help": "" } ], "rasterTypeInfos": [ { "name": "Raster Dataset", "description": "Supports all ArcGIS Raster Datasets", "help": "" } ], "mensurationCapabilities": "Basic", "hasHistograms": true, "hasColormap": true, "hasRasterAttributeTable": true, "minScale": 0, "maxScale": 0, "exportTilesAllowed": false, "supportsStatistics": false, "supportsAdvancedQueries": false, "editFieldsInfo": null, "ownershipBasedAccessControlForRasters": null, "allowComputeTiePoints": false, "useStandardizedQueries": true, "advancedQueryCapabilities": { "useStandardizedQueries": true, "supportsStatistics": false, "supportsOrderBy": false, "supportsDistinct": false, "supportsPagination": false }, "spatialReference": {"wkt": "PROJCS[\"UTM_Zone_14_Northern_Hemisphere\",GEOGCS[\"GCS_Undefined\",DATUM[\"D_Undefined\",SPHEROID[\"Clarke_1866\",6378206.4,294.9786982]],PRIMEM[\"Greenwich\",0.0],UNIT[\"Degree\",0.0174532925199433]],PROJECTION[\"Transverse_Mercator\"],PARAMETER[\"false_easting\",500000.0],PARAMETER[\"false_northing\",0.0],PARAMETER[\"central_meridian\",-99.0],PARAMETER[\"scale_factor\",0.9996],PARAMETER[\"latitude_of_origin\",0.0],UNIT[\"Meter\",1.0]]"} }