<?xml version="1.0" encoding="UTF-8" standalone="no"?>
<metadata xml:lang="en">
<Esri>
<CreaDate>20170118</CreaDate>
<CreaTime>14050800</CreaTime>
<ArcGISFormat>1.0</ArcGISFormat>
<ArcGISstyle>FGDC CSDGM Metadata</ArcGISstyle>
<SyncOnce>FALSE</SyncOnce>
<DataProperties>
<itemProps>
<itemName Sync="TRUE">klcp2015l1.img</itemName>
<imsContentType Sync="TRUE">002</imsContentType>
<nativeExtBox>
<westBL Sync="TRUE">-532420.000000</westBL>
<eastBL Sync="TRUE">121850.000000</eastBL>
<southBL Sync="TRUE">1550614.000000</southBL>
<northBL Sync="TRUE">1903654.000000</northBL>
<exTypeCode Sync="TRUE">1</exTypeCode>
</nativeExtBox>
</itemProps>
<coordRef>
<type Sync="TRUE">Projected</type>
<geogcsn Sync="TRUE">GCS_North_American_1983</geogcsn>
<csUnits Sync="TRUE">Linear Unit: Meter (1.000000)</csUnits>
<projcsn Sync="TRUE">Albers_Conic_Equal_Area</projcsn>
<peXml Sync="TRUE">&lt;ProjectedCoordinateSystem xsi:type='typens:ProjectedCoordinateSystem' xmlns:xsi='http://www.w3.org/2001/XMLSchema-instance' xmlns:xs='http://www.w3.org/2001/XMLSchema' xmlns:typens='http://www.esri.com/schemas/ArcGIS/10.4'&gt;&lt;WKT&gt;PROJCS[&amp;quot;Albers_Conic_Equal_Area&amp;quot;,GEOGCS[&amp;quot;GCS_North_American_1983&amp;quot;,DATUM[&amp;quot;D_North_American_1983&amp;quot;,SPHEROID[&amp;quot;GRS_1980&amp;quot;,6378137.0,298.257222101]],PRIMEM[&amp;quot;Greenwich&amp;quot;,0.0],UNIT[&amp;quot;Degree&amp;quot;,0.0174532925199433]],PROJECTION[&amp;quot;Albers&amp;quot;],PARAMETER[&amp;quot;false_easting&amp;quot;,0.0],PARAMETER[&amp;quot;false_northing&amp;quot;,0.0],PARAMETER[&amp;quot;central_meridian&amp;quot;,-96.0],PARAMETER[&amp;quot;standard_parallel_1&amp;quot;,29.5],PARAMETER[&amp;quot;standard_parallel_2&amp;quot;,45.5],PARAMETER[&amp;quot;latitude_of_origin&amp;quot;,23.0],UNIT[&amp;quot;Meter&amp;quot;,1.0]]&lt;/WKT&gt;&lt;XOrigin&gt;-16901100&lt;/XOrigin&gt;&lt;YOrigin&gt;-6972200&lt;/YOrigin&gt;&lt;XYScale&gt;266467840.99085236&lt;/XYScale&gt;&lt;ZOrigin&gt;-100000&lt;/ZOrigin&gt;&lt;ZScale&gt;10000&lt;/ZScale&gt;&lt;MOrigin&gt;-100000&lt;/MOrigin&gt;&lt;MScale&gt;10000&lt;/MScale&gt;&lt;XYTolerance&gt;0.001&lt;/XYTolerance&gt;&lt;ZTolerance&gt;0.001&lt;/ZTolerance&gt;&lt;MTolerance&gt;0.001&lt;/MTolerance&gt;&lt;HighPrecision&gt;true&lt;/HighPrecision&gt;&lt;/ProjectedCoordinateSystem&gt;</peXml>
</coordRef>
<RasterProperties>
<General>
<PixelDepth Sync="TRUE">16</PixelDepth>
<HasColormap Sync="TRUE">FALSE</HasColormap>
<CompressionType Sync="TRUE">RLE</CompressionType>
<NumBands Sync="TRUE">1</NumBands>
<Format Sync="TRUE">IMAGINE Image</Format>
<HasPyramids Sync="TRUE">TRUE</HasPyramids>
<SourceType Sync="TRUE">continuous</SourceType>
<PixelType Sync="TRUE">unsigned integer</PixelType>
<NoDataValue Sync="TRUE">65535</NoDataValue>
</General>
</RasterProperties>
</DataProperties>
<SyncDate>20210715</SyncDate>
<SyncTime>14403900</SyncTime>
<ModDate>20210715</ModDate>
<ModTime>14403900</ModTime>
<scaleRange>
<minScale>150000000</minScale>
<maxScale>5000</maxScale>
</scaleRange>
<ArcGISProfile>FGDC</ArcGISProfile>
</Esri>
<dataIdInfo>
<envirDesc Sync="TRUE"> Version 6.2 (Build 9200) ; Esri ArcGIS 10.4.1.5686</envirDesc>
<dataLang>
<languageCode Sync="TRUE" value="eng">
</languageCode>
<countryCode Sync="TRUE" value="USA">
</countryCode>
</dataLang>
<idCitation>
<resTitle Sync="TRUE">klcp2015l1.img</resTitle>
<presForm>
<PresFormCd Sync="TRUE" value="005">
</PresFormCd>
</presForm>
</idCitation>
<spatRpType>
<SpatRepTypCd Sync="TRUE" value="002">
</SpatRepTypCd>
</spatRpType>
<dataExt>
<geoEle>
<GeoBndBox esriExtentType="search">
<exTypeCode Sync="TRUE">1</exTypeCode>
<westBL Sync="TRUE">-102.295546</westBL>
<eastBL Sync="TRUE">-94.557197</eastBL>
<northBL Sync="TRUE">40.148840</northBL>
<southBL Sync="TRUE">36.847900</southBL>
</GeoBndBox>
</geoEle>
</dataExt>
<idPurp>This database was generated to be part of the Core Database for the State of Kansas. It is suited for county-level and watershed-level analyses that involve...</idPurp>
<idAbs>&lt;DIV STYLE="text-align:Left;"&gt;&lt;DIV&gt;&lt;DIV&gt;&lt;P STYLE="margin:0 0 0 0;"&gt;&lt;SPAN&gt;The 2015 Level I Kansas Land Cover Patterns map represents Phase 1 of a two-phase database development. The map enhances the Cropland Data Layer to be comparable (thematic classes and spatial resolution (cell size) and generalization (or MMU)) to the 1990 and 2005 Kansas Land Cover Patterns map to provide opportunities to identify and examine how the Kansas landscape has changed over time. In Phase II cropland pixels will be extracted from the Level I map and mapped using 2015 MODIS NDVI time-series and compared to crop map results generated in the CDL. The most accurate crop type map will be used for the final Level III map product. Also in Phase II, grassland pixels will be extracted from the Level I map and cool- and warm-season grasslands will be mapped using 2015 Landsat TM and/or 2015 MODIS NDVI time-series.&lt;/SPAN&gt;&lt;/P&gt;&lt;P STYLE="margin:0 0 0 0;"&gt;&lt;SPAN /&gt;&lt;/P&gt;&lt;P STYLE="margin:0 0 0 0;"&gt;&lt;SPAN&gt;&lt;SPAN&gt;The map contains ten land use/land cover classes. The positional accuracy and spatial resolution of the map are appropriate for producing 1:50,000 scale maps. The map is not intended to define precise boundaries between landscape features and while the source data has a spatial resolution of 30 m x 30 m, the minimum map unit varies by land cover class and ranges between 0.22 to 5.12 acres (see below).&lt;/SPAN&gt;&lt;/SPAN&gt;&lt;/P&gt;&lt;P STYLE="margin:0 0 0 0;"&gt;&lt;SPAN /&gt;&lt;SPAN /&gt;&lt;/P&gt;&lt;P STYLE="margin:0 0 0 0;"&gt;&lt;SPAN&gt;MMU by LULC type:&lt;/SPAN&gt;&lt;/P&gt;&lt;P STYLE="margin:0 0 0 0;"&gt;&lt;SPAN&gt;water = 1 pixel&lt;/SPAN&gt;&lt;/P&gt;&lt;P STYLE="margin:0 0 0 0;"&gt;&lt;SPAN&gt;woodland = 3 pixels (0.667 acres)&lt;/SPAN&gt;&lt;/P&gt;&lt;P STYLE="margin:0 0 0 0;"&gt;&lt;SPAN&gt;other = 15 pixels (3.114 acres) &lt;/SPAN&gt;&lt;/P&gt;&lt;P STYLE="margin:0 0 0 0;"&gt;&lt;SPAN&gt;urban = 15 pixels (3.114 acres)&lt;/SPAN&gt;&lt;/P&gt;&lt;P STYLE="margin:0 0 0 0;"&gt;&lt;SPAN&gt;grass/crop = 23 pixels (5.115 acres)&lt;/SPAN&gt;&lt;/P&gt;&lt;P&gt;&lt;SPAN /&gt;&lt;/P&gt;&lt;/DIV&gt;&lt;/DIV&gt;&lt;/DIV&gt;</idAbs>
<idCredit>Funding Sources: The land cover mapping project was co-funded by the Kansas GIS Policy Board with funds from the Kansas Water Plan that are administered by the Kansas Water Office under the grant titled "Kansas Land Cover Mapping Initiative: A 10-Year Update" and the Kansas Department of Wildlife, Parks and Tourism under the granted titled "Geographic Information System (GIS) and Remote Sensing Support Services".</idCredit>
<searchKeys>
<keyword>Land Cover</keyword>
<keyword>Cropland</keyword>
<keyword>Land Use</keyword>
<keyword>Grassland</keyword>
<keyword>Woodland</keyword>
<keyword>Urban</keyword>
<keyword>Water</keyword>
</searchKeys>
<dataChar>
<CharSetCd value="004">
</CharSetCd>
</dataChar>
<idPoC>
<rpIndName>Dana Peterson</rpIndName>
<rpOrgName>Kansas Biological Survey</rpOrgName>
<rpPosName>Associate Researcher</rpPosName>
<role>
<RoleCd value="007">
</RoleCd>
</role>
</idPoC>
<idStatus>
<ProgCd value="001">
</ProgCd>
</idStatus>
<idSpecUse>
<specUsage>The positional accuracy and spatial resolution of the map are appropriate for producing 1:50,000 scale maps. </specUsage>
<usrDetLim>This database is not suited for site-specific analyses. The map is not intended to define precise boundaries between landscape features. Interpretations derived from its use are intended for planning purposes only.</usrDetLim>
</idSpecUse>
<resConst>
<Consts>
<useLimit>&lt;DIV STYLE="text-align:Left;"&gt;&lt;DIV&gt;&lt;DIV&gt;&lt;P&gt;&lt;SPAN&gt;This database is not suited for site-specific analyses. Interpretations derived from its use are intended for planning purposes only.&lt;/SPAN&gt;&lt;/P&gt;&lt;/DIV&gt;&lt;/DIV&gt;&lt;/DIV&gt;</useLimit>
</Consts>
</resConst>
</dataIdInfo>
<mdLang>
<languageCode Sync="TRUE" value="eng">
</languageCode>
<countryCode Sync="TRUE" value="USA">
</countryCode>
</mdLang>
<mdChar>
<CharSetCd Sync="TRUE" value="004">
</CharSetCd>
</mdChar>
<distInfo>
<distFormat>
<formatName Sync="TRUE">Raster Dataset</formatName>
</distFormat>
</distInfo>
<mdHrLv>
<ScopeCd Sync="TRUE" value="005">
</ScopeCd>
</mdHrLv>
<mdHrLvName Sync="TRUE">dataset</mdHrLvName>
<refSysInfo>
<RefSystem dimension="">
<refSysID>
<identCode Sync="TRUE" code="0">
</identCode>
</refSysID>
</RefSystem>
</refSysInfo>
<spatRepInfo>
<Georect>
<cellGeo>
<CellGeoCd Sync="TRUE" value="002">
</CellGeoCd>
</cellGeo>
<numDims Sync="TRUE">2</numDims>
<tranParaAv Sync="TRUE">1</tranParaAv>
<chkPtAv Sync="TRUE">0</chkPtAv>
<cornerPts>
<pos Sync="TRUE">-532420.000000 1550614.000000</pos>
</cornerPts>
<cornerPts>
<pos Sync="TRUE">-532420.000000 1903654.000000</pos>
</cornerPts>
<cornerPts>
<pos Sync="TRUE">121850.000000 1903654.000000</pos>
</cornerPts>
<cornerPts>
<pos Sync="TRUE">121850.000000 1550614.000000</pos>
</cornerPts>
<centerPt>
<pos Sync="TRUE">-205285.000000 1727134.000000</pos>
</centerPt>
<axisDimension type="002">
<dimSize Sync="TRUE">21809</dimSize>
<dimResol>
<value Sync="TRUE" uom="m">30.000000</value>
</dimResol>
</axisDimension>
<axisDimension type="001">
<dimSize Sync="TRUE">11768</dimSize>
<dimResol>
<value Sync="TRUE" uom="m">30.000000</value>
</dimResol>
</axisDimension>
<ptInPixel>
<PixOrientCd Sync="TRUE" value="001">
</PixOrientCd>
</ptInPixel>
</Georect>
</spatRepInfo>
<eainfo>
<detailed Name="klcp2015l1.img.vat">
<enttyp>
<enttypl Sync="TRUE">klcp2015l1.img.vat</enttypl>
<enttypt Sync="TRUE">Table</enttypt>
<enttypc Sync="TRUE">10</enttypc>
</enttyp>
<attr>
<attrlabl Sync="TRUE">OID</attrlabl>
<attalias Sync="TRUE">OID</attalias>
<attrtype Sync="TRUE">OID</attrtype>
<attwidth Sync="TRUE">4</attwidth>
<atprecis Sync="TRUE">0</atprecis>
<attscale Sync="TRUE">0</attscale>
<attrdef Sync="TRUE">Internal feature number.</attrdef>
<attrdefs Sync="TRUE">Esri</attrdefs>
<attrdomv>
<udom Sync="TRUE">Sequential unique whole numbers that are automatically generated.</udom>
</attrdomv>
</attr>
<attr>
<attrlabl Sync="TRUE">Value</attrlabl>
<attalias Sync="TRUE">Value</attalias>
<attrtype Sync="TRUE">Integer</attrtype>
<attwidth Sync="TRUE">10</attwidth>
<atprecis Sync="TRUE">10</atprecis>
<attscale Sync="TRUE">0</attscale>
<attrdef>Value corresponds to Land Use or Land Cover Codes:
11: Commercial/Industrial
12: Residential
13: Urban-Openland
14: Urban Woodland
15: Urban Water
20: Cropland
30: Grassland
40: Woodland
50: Water
60: Other
</attrdef>
</attr>
<attr>
<attrlabl Sync="TRUE">Count</attrlabl>
<attalias Sync="TRUE">Count</attalias>
<attrtype Sync="TRUE">Double</attrtype>
<attwidth Sync="TRUE">19</attwidth>
<atprecis Sync="TRUE">0</atprecis>
<attscale Sync="TRUE">0</attscale>
</attr>
<attr>
<attrlabl Sync="TRUE">LULC_NAME</attrlabl>
<attalias Sync="TRUE">LULC_NAME</attalias>
<attrtype Sync="TRUE">String</attrtype>
<attwidth Sync="TRUE">30</attwidth>
<atprecis Sync="TRUE">0</atprecis>
<attscale Sync="TRUE">0</attscale>
</attr>
</detailed>
<overview>
<eaover>The eleven mapped classes are defined as:
Commercial/Industrial (class code 11)- commercial/industrial land consists of areas of intensive use with much of the land covered by structures or other hard surfaces. These areas are used predominantly for the manufacture and sale of products and/or services. This category includes the central business districts of cities, towns, and villages; suburban shopping centers and strip developments; educational, governmental, religious, health, correctional and institutional facilities; industrial and commercial complexes; and communications, power, and transportation facilities. The main buildings, secondary structures, and areas supporting the basic use are all included - office buildings, warehouses, driveways, parking lots, landscaped areas, streets, etc. Highways or interstate systems running through the core of urban areas, are also included in this class.
Residential (class code 12)- residential land consists of areas of medium density housing characterized by a more or less even distribution of vegetative cover and houses/garages, to high density housing characterized by multi-unit structures such as apartment complexes. Linear residential developments along transportation routes extending outward from urban areas are included. Rural subdivisions not directly connected to the core of an urbanized area are also included. The main buildings, secondary structures, and immediate surrounding landscape are all included (i.e., house, apartment complexes, streets, garages, driveways, parking areas, lawns, trees, etc.).
Urban-Openland (class code 13)- urban-openland consists of areas with uses such as golf courses, zoos, urban parks, cemeteries, and undeveloped land within an urban setting. Low density rural residential areas may also be included in this category. This category also includes tracts of land that have been zoned residential or commercial, but have yet to be developed.
Urban-Woodland (class code 14)- urban-woodland consists of wooded tracts within a town or city. These wooded tracts maybe associated with golf courses, zoos, urban parks, and other undeveloped land.
Urban-Water (class code 15)- urban-water consists of any open surface water within a town or city. This includes ponds, lakes, sewage settling ponds, etc.
Cropland (class code 20)- cropland includes all areas with actively growing row crop and small grains, as well as harvested lands, fallow land, and large, uniform areas of bare, plowed ground.
Grassland (class code 30)- this category includes all pasture (hayed land), rangeland, and other grasslands having insufficient trees and/or shrubs to be classified as "woodland". It does NOT include conservation reserve program (CRP) land.
Woodland (class code 40) - this class includes any wooded areas having a canopy closure of 50% and greater.
Water (class code 50) - all open water bodies, including reservoirs, lakes, ponds, rivers and streams. Ephemeral streams may not be represented.
Other (class code 60)- the "other" class is used to identify land cover land use classes not previously defined. In general, this class is used for exposed bare ground other than cropland. Examples include rock quarries, sand and gravel pits, sandbars, and built-up areas less than 40 acres.
</eaover>
</overview>
</eainfo>
<contInfo>
<ImgDesc>
<contentTyp>
<ContentTypCd Sync="TRUE" value="001">
</ContentTypCd>
</contentTyp>
<attDesc>Land Use/Land Cover Classes: </attDesc>
<trianInd>False</trianInd>
<radCalDatAv>False</radCalDatAv>
<camCalInAv>False</camCalInAv>
<filmDistInAv>False</filmDistInAv>
<lensDistInAv>False</lensDistInAv>
<covDim>
<RangeDim>
<seqID>
<aName>11</aName>
<attributeType>
<aName>60</aName>
</attributeType>
</seqID>
</RangeDim>
<Band>
<dimDescrp Sync="TRUE">Layer_1</dimDescrp>
<maxVal Sync="TRUE">60.000000</maxVal>
<minVal Sync="TRUE">11.000000</minVal>
<bitsPerVal Sync="TRUE">16</bitsPerVal>
<valUnit>
<UOM type="length">
</UOM>
</valUnit>
</Band>
</covDim>
</ImgDesc>
</contInfo>
<mdDateSt Sync="TRUE">20210715</mdDateSt>
<contInfo>
<ImgDesc>
<trianInd>False</trianInd>
<radCalDatAv>False</radCalDatAv>
<camCalInAv>False</camCalInAv>
<filmDistInAv>False</filmDistInAv>
<lensDistInAv>False</lensDistInAv>
<covDim>
<Band>
<dimDescrp Sync="TRUE">Layer_1</dimDescrp>
<maxVal Sync="TRUE">60.000000</maxVal>
<minVal Sync="TRUE">11.000000</minVal>
<bitsPerVal Sync="TRUE">16</bitsPerVal>
<valUnit>
<UOM type="length">
</UOM>
</valUnit>
</Band>
</covDim>
</ImgDesc>
</contInfo>
</metadata>
