<?xml version="1.0" encoding="UTF-8" standalone="no"?>
<metadata xml:lang="en">
<Esri>
<CreaDate>20140519</CreaDate>
<CreaTime>17262700</CreaTime>
<ArcGISFormat>1.0</ArcGISFormat>
<SyncOnce>FALSE</SyncOnce>
<DataProperties>
<itemProps>
<itemName Sync="TRUE">LULC2007_gen_subclu.img</itemName>
<nativeExtBox>
<westBL Sync="TRUE">-532485.000000</westBL>
<eastBL Sync="TRUE">121995.000000</eastBL>
<southBL Sync="TRUE">1550535.000000</southBL>
<northBL Sync="TRUE">1903725.000000</northBL>
<exTypeCode Sync="TRUE">1</exTypeCode>
</nativeExtBox>
<imsContentType Sync="TRUE">002</imsContentType>
</itemProps>
<coordRef>
<type Sync="TRUE">Projected</type>
<geogcsn Sync="TRUE">GCS_North_American_1983</geogcsn>
<csUnits Sync="TRUE">Linear Unit: Meter (1.000000)</csUnits>
<projcsn Sync="TRUE">Albers_Conical_Equal_Area</projcsn>
<peXml Sync="TRUE">&lt;ProjectedCoordinateSystem xsi:type='typens:ProjectedCoordinateSystem' xmlns:xsi='http://www.w3.org/2001/XMLSchema-instance' xmlns:xs='http://www.w3.org/2001/XMLSchema' xmlns:typens='http://www.esri.com/schemas/ArcGIS/10.4'&gt;&lt;WKT&gt;PROJCS[&amp;quot;Albers_Conical_Equal_Area&amp;quot;,GEOGCS[&amp;quot;GCS_North_American_1983&amp;quot;,DATUM[&amp;quot;D_North_American_1983&amp;quot;,SPHEROID[&amp;quot;GRS_1980&amp;quot;,6378137.0,298.257222101]],PRIMEM[&amp;quot;Greenwich&amp;quot;,0.0],UNIT[&amp;quot;Degree&amp;quot;,0.0174532925199433]],PROJECTION[&amp;quot;Albers&amp;quot;],PARAMETER[&amp;quot;false_easting&amp;quot;,0.0],PARAMETER[&amp;quot;false_northing&amp;quot;,0.0],PARAMETER[&amp;quot;central_meridian&amp;quot;,-96.0],PARAMETER[&amp;quot;standard_parallel_1&amp;quot;,29.5],PARAMETER[&amp;quot;standard_parallel_2&amp;quot;,45.5],PARAMETER[&amp;quot;latitude_of_origin&amp;quot;,23.0],UNIT[&amp;quot;Meter&amp;quot;,1.0]]&lt;/WKT&gt;&lt;XOrigin&gt;-16901100&lt;/XOrigin&gt;&lt;YOrigin&gt;-6972200&lt;/YOrigin&gt;&lt;XYScale&gt;266467840.99085236&lt;/XYScale&gt;&lt;ZOrigin&gt;-100000&lt;/ZOrigin&gt;&lt;ZScale&gt;10000&lt;/ZScale&gt;&lt;MOrigin&gt;-100000&lt;/MOrigin&gt;&lt;MScale&gt;10000&lt;/MScale&gt;&lt;XYTolerance&gt;0.001&lt;/XYTolerance&gt;&lt;ZTolerance&gt;0.001&lt;/ZTolerance&gt;&lt;MTolerance&gt;0.001&lt;/MTolerance&gt;&lt;HighPrecision&gt;true&lt;/HighPrecision&gt;&lt;/ProjectedCoordinateSystem&gt;</peXml>
</coordRef>
<RasterProperties>
<General>
<PixelDepth Sync="TRUE">16</PixelDepth>
<HasColormap Sync="TRUE">TRUE</HasColormap>
<CompressionType Sync="TRUE">RLE</CompressionType>
<NumBands Sync="TRUE">1</NumBands>
<Format Sync="TRUE">IMAGINE Image</Format>
<HasPyramids Sync="TRUE">TRUE</HasPyramids>
<SourceType Sync="TRUE">continuous</SourceType>
<PixelType Sync="TRUE">unsigned integer</PixelType>
<NoDataValue Sync="TRUE">65535</NoDataValue>
</General>
</RasterProperties>
</DataProperties>
<SyncDate>20170724</SyncDate>
<SyncTime>09130600</SyncTime>
<ModDate>20170724</ModDate>
<ModTime>09130600</ModTime>
<scaleRange>
<minScale>625000</minScale>
<maxScale>5000</maxScale>
</scaleRange>
</Esri>
<dataIdInfo>
<idPurp>This dataset was developed by the Kansas Applied Remote Sensing Program (KARS) of the Kansas Biological Survey (KBS) located at the University of Kansas. This...</idPurp>
<idAbs>&lt;DIV STYLE="text-align:Left;"&gt;&lt;DIV&gt;&lt;DIV&gt;&lt;P STYLE="font-weight:bold;margin:0 0 14 0;"&gt;&lt;SPAN&gt;&lt;SPAN&gt;Citation: Kansas Applied Remote Sensing Program. 2014. BACC FLUD Kansas Land Cover Database (2003-2012). Available at &lt;/SPAN&gt;&lt;/SPAN&gt;&lt;A href="http://kars.ku.edu/geonetwork/srv/en/main.home"&gt;&lt;SPAN&gt;&lt;SPAN&gt;http://kars.ku.edu/geonetwork/srv/en/main.home&lt;/SPAN&gt;&lt;/SPAN&gt;&lt;/A&gt;&lt;SPAN&gt;&lt;SPAN&gt;(accessed {DATE}; verified {DATE}. Kansas Applied Remote Sensing Program, Kansas Biological Survey, University of Kansas, Lawrence, Kansas.&lt;/SPAN&gt;&lt;/SPAN&gt;&lt;/P&gt;&lt;P STYLE="font-weight:bold;margin:0 0 14 0;"&gt;&lt;SPAN&gt;&lt;SPAN&gt;Acronyms:&lt;/SPAN&gt;&lt;/SPAN&gt;&lt;/P&gt;&lt;P STYLE="margin:0 0 14 0;"&gt;&lt;SPAN&gt;&lt;SPAN&gt;FSA = USDA Farm Service Agency&lt;/SPAN&gt;&lt;/SPAN&gt;&lt;/P&gt;&lt;P STYLE="margin:0 0 14 0;"&gt;&lt;SPAN&gt;&lt;SPAN&gt;NASS = USDA National Agricultural Statistics Service&lt;/SPAN&gt;&lt;/SPAN&gt;&lt;/P&gt;&lt;P STYLE="margin:0 0 14 0;"&gt;&lt;SPAN&gt;&lt;SPAN&gt;LULC = land use/land cover&lt;/SPAN&gt;&lt;/SPAN&gt;&lt;/P&gt;&lt;P STYLE="text-indent:48;margin:0 0 14 0;"&gt;&lt;SPAN&gt;&lt;SPAN&gt;ASD = Agricultural Statistics District (nine of these in KS; labeled 10, 20, …, 90)&lt;/SPAN&gt;&lt;/SPAN&gt;&lt;/P&gt;&lt;P STYLE="text-indent:48;margin:0 0 14 0;"&gt;&lt;SPAN&gt;&lt;SPAN&gt;W = western ASDs (10,20,30)&lt;/SPAN&gt;&lt;/SPAN&gt;&lt;/P&gt;&lt;P STYLE="text-indent:20;margin:0 0 14 20;"&gt;&lt;SPAN&gt;&lt;SPAN&gt; C = central ASDs (40,50,60)&lt;/SPAN&gt;&lt;/SPAN&gt;&lt;/P&gt;&lt;P STYLE="text-indent:48;margin:0 0 14 0;"&gt;&lt;SPAN&gt;&lt;SPAN&gt;E = eastern ASDs (70,80,90)&lt;/SPAN&gt;&lt;/SPAN&gt;&lt;/P&gt;&lt;P STYLE="text-indent:48;margin:0 0 14 0;"&gt;&lt;SPAN&gt;&lt;SPAN&gt;WC = western + central ASDs (10-60)&lt;/SPAN&gt;&lt;/SPAN&gt;&lt;/P&gt;&lt;P STYLE="text-indent:48;margin:0 0 14 0;"&gt;&lt;SPAN&gt;&lt;SPAN&gt;CE = central + eastern ASDs (40-90)&lt;/SPAN&gt;&lt;/SPAN&gt;&lt;/P&gt;&lt;P STYLE="text-indent:48;margin:0 0 14 0;"&gt;&lt;SPAN&gt;&lt;SPAN&gt;I = irrigated&lt;/SPAN&gt;&lt;/SPAN&gt;&lt;/P&gt;&lt;P STYLE="text-indent:48;margin:0 0 14 0;"&gt;&lt;SPAN&gt;&lt;SPAN&gt;NI = non-irrigated&lt;/SPAN&gt;&lt;/SPAN&gt;&lt;/P&gt;&lt;P STYLE="text-indent:48;margin:0 0 14 0;"&gt;&lt;SPAN&gt;&lt;SPAN&gt;DT = boosted decision tree model&lt;/SPAN&gt;&lt;/SPAN&gt;&lt;/P&gt;&lt;P STYLE="margin:0 0 14 0;"&gt;&lt;SPAN STYLE="font-weight:bold;"&gt;&lt;SPAN&gt;Overview:&lt;/SPAN&gt;&lt;/SPAN&gt;&lt;SPAN&gt;&lt;SPAN&gt;LULC maps for 2003-2005 were produced using MODIS NDVI-based DT models. Mapped classes included alfalfa (I &amp;amp; NI), corn (I &amp;amp; NI), sorghum (I &amp;amp; NI), soybeans (I &amp;amp; NI), winter wheat (I &amp;amp; NI), double crop (I &amp;amp; NI), and fallow (NI). The ground reference dataset used for model training was developed using FSA 578 Compliance data tables from 2003-2007 and the FSA CLU spatial coverage from 2007 (more on this below). Non-cropland classes (grass/pasture, urban, water) were burned in from the 2005 Kansas Land Cover Patterns dataset previously developed at KARS for a different project. General LULC for 2006-2012 was based on USDA NASS CDL layers from these years, which do not include irrigation status. CDL crops not included in the above list were recoded to “other crop”. MODIS NDVI-based DT models subsequently were developed to map irrigation status (I or NI) for the above crops in the 2006-2012 LULC map set.&lt;/SPAN&gt;&lt;/SPAN&gt;&lt;/P&gt;&lt;P STYLE="margin:0 0 14 0;"&gt;&lt;SPAN STYLE="font-weight:bold;"&gt;&lt;SPAN&gt;Ground reference data:&lt;/SPAN&gt;&lt;/SPAN&gt;&lt;SPAN&gt;All monocropped CLUs with crop types from the above list were identified in the 2003-2007 FSA datasets and formed the basis for the ground reference dataset. The vast majority of irrigated records were associated with subCLUs and thus did not filter into the ground reference dataset. To supplement the population of irrigated ground reference samples, a rule set was created to identify subCLUs that were highly likely to correspond with mono-cropped, quarter-section sized center pivots (the most common irrigated footprint). Fields identified during this process were appended to the ground reference dataset, which approximately doubled the number of irrigated ground reference data samples.&lt;/SPAN&gt;&lt;/P&gt;&lt;P STYLE="margin:0 0 14 0;"&gt;&lt;SPAN STYLE="font-weight:bold;"&gt;&lt;SPAN&gt;Models:&lt;/SPAN&gt;&lt;/SPAN&gt;&lt;SPAN&gt;&lt;SPAN&gt;A number of DT models were developed to complete the 2003-2013 LULC map set. Due to regional similarities and differences in crop phenologies, management practices, and climatic tendencies, the state was divided into two modelling regions, WC and E. For the WC region, ground reference data from the WC ASDs were used for model development. For the E region, ground reference data from the CE ASDs were used. For the E region, ground reference data from the C region was included because there were not enough samples using E region data alone for many classes.&lt;/SPAN&gt;&lt;/SPAN&gt;&lt;/P&gt;&lt;P STYLE="margin:0 0 14 0;"&gt;&lt;SPAN STYLE="font-style:italic;font-weight:bold;"&gt;&lt;SPAN&gt;2003-2005, WC, inside POU:&lt;/SPAN&gt;&lt;/SPAN&gt;&lt;SPAN&gt;&lt;SPAN&gt;A boosted decision tree was developed using WC ground reference data to map the following 13 classes: Alfalfa (I &amp;amp; NI), Corn (I &amp;amp; NI), Sorghum (I &amp;amp; NI), Soybeans (I &amp;amp; NI), Winter Wheat (I &amp;amp; NI), Double Crop (I &amp;amp; NI), and Fallow (NI).&lt;/SPAN&gt;&lt;/SPAN&gt;&lt;/P&gt;&lt;P STYLE="margin:0 0 14 0;"&gt;&lt;SPAN STYLE="font-style:italic;font-weight:bold;"&gt;&lt;SPAN&gt;2003-2005, WC, outside POU:&lt;/SPAN&gt;&lt;/SPAN&gt;&lt;SPAN&gt;&lt;SPAN&gt;A boosted decision tree model was developed using non-irrigated WC ground reference data to map the following 7 classes (all non-irrigated): Alfalfa, Corn, Sorghum, Soybeans, Winter Wheat, Double Crop, and Fallow.&lt;/SPAN&gt;&lt;/SPAN&gt;&lt;/P&gt;&lt;P STYLE="margin:0 0 14 0;"&gt;&lt;SPAN STYLE="font-style:italic;font-weight:bold;"&gt;&lt;SPAN&gt;2003-2005, E, inside POU:&lt;/SPAN&gt;&lt;/SPAN&gt;&lt;SPAN&gt;&lt;SPAN&gt;A boosted decision tree model was developed using CE ground reference data to map the following 8 classes: Alfalfa (NI), Corn (I &amp;amp; NI), Sorghum (NI), Soybeans (I &amp;amp; NI), Winter Wheat (NI), and Double Crop (NI).&lt;/SPAN&gt;&lt;/SPAN&gt;&lt;/P&gt;&lt;P STYLE="margin:0 0 14 0;"&gt;&lt;SPAN STYLE="font-style:italic;font-weight:bold;"&gt;&lt;SPAN&gt;2003-2005, E, outside POU:&lt;/SPAN&gt;&lt;/SPAN&gt;&lt;SPAN&gt;&lt;SPAN&gt;A boosted decision tree model was developed using non-irrigated CE ground reference data to map the following 6 classes (all non-irrigated): Alfalfa, Corn, Sorghum, Soybeans, Winter Wheat, and Double Crop.&lt;/SPAN&gt;&lt;/SPAN&gt;&lt;/P&gt;&lt;P STYLE="margin:0 0 14 0;"&gt;&lt;SPAN STYLE="font-style:italic;font-weight:bold;"&gt;&lt;SPAN&gt;2006-2012, W, inside POU:&lt;/SPAN&gt;&lt;/SPAN&gt;&lt;SPAN&gt;&lt;SPAN&gt;A boosted decision tree model (one model per crop) was developed using WC ground reference data to map I &amp;amp; NI status for each of Alfalfa, Corn, Sorghum, Soybeans, Winter Wheat, and Double Crop.&lt;/SPAN&gt;&lt;/SPAN&gt;&lt;/P&gt;&lt;P STYLE="margin:0 0 14 0;"&gt;&lt;SPAN STYLE="font-style:italic;font-weight:bold;"&gt;&lt;SPAN&gt;2006-2012, E, inside POU:&lt;/SPAN&gt;&lt;/SPAN&gt;&lt;SPAN&gt;&lt;SPAN&gt;A boosted decision tree model (one model per crop) was developed using CE ground reference data to map I &amp;amp; NI status for each of Corn and Soybeans.&lt;/SPAN&gt;&lt;/SPAN&gt;&lt;/P&gt;&lt;P STYLE="margin:0 0 14 0;"&gt;&lt;SPAN STYLE="font-weight:bold;"&gt;&lt;SPAN&gt;Irrigation Mask Development:&lt;/SPAN&gt;&lt;/SPAN&gt;&lt;SPAN&gt;&lt;SPAN&gt;Based on the consistency of irrigation water use in Kansas during 2002-2013, as well as management and economic difficulties that preclude substantial annual spatial variations in the set of irrigated fields, it was assumed that the set of irrigated fields in Kansas was largely stable during the 10-year study period. Furthermore, past experience of the mapping team strongly suggested that the variability of mapping irrigation status on a year-by-year basis likely would result in more mapping error than creating a single, constant irrigation mask that would be applied to all 10 years of LULC maps. Consequently, a procedure was developed to utilize all of the “inside POU” map results and produce a single irrigation mask. Upon completion, the irrigation status layer for all 10 years of maps was modified to coincide with this final, static irrigation mask.&lt;/SPAN&gt;&lt;/SPAN&gt;&lt;/P&gt;&lt;P STYLE="margin:0 0 14 0;"&gt;&lt;SPAN&gt;&lt;SPAN&gt;The final procedure relied on the creation and implementation of a hierarchical logical rule set that utilized LULC trajectories, USDA NASS irrigated acreage statistics, and maximum MODI NDVI values from individual fields. All available county-level USDA NASS irrigated acreage data were obtained to facilitate this process, ultimately steering crop-specific irrigated acreage totals toward the reported values.&lt;/SPAN&gt;&lt;/SPAN&gt;&lt;/P&gt;&lt;P&gt;&lt;SPAN /&gt;&lt;/P&gt;&lt;/DIV&gt;&lt;/DIV&gt;&lt;/DIV&gt;</idAbs>
<idCredit>Kansas Applied Remote Sensing Program and Kansas Biological Survey</idCredit>
<searchKeys>
<keyword>biofuels and climate change: farmers' land use decisions</keyword>
<keyword>bacc:flud</keyword>
<keyword>alfalfa</keyword>
<keyword>barren</keyword>
<keyword>corn</keyword>
<keyword>crp</keyword>
<keyword>developed</keyword>
<keyword>double crop</keyword>
<keyword>fallow</keyword>
<keyword>grassland</keyword>
<keyword>irrigated</keyword>
<keyword>Kansas</keyword>
<keyword>land use land cover</keyword>
<keyword>lulc</keyword>
<keyword>non-irrigated</keyword>
<keyword>sorghum</keyword>
<keyword>soybeans</keyword>
<keyword>water</keyword>
<keyword>winter wheat</keyword>
</searchKeys>
<resConst>
<Consts>
<useLimit>&lt;DIV STYLE="text-align:Left;"&gt;&lt;DIV&gt;&lt;DIV&gt;&lt;P&gt;&lt;SPAN&gt;The Kansas Biological Survey (KBS) and its representatives make no warranty or representation, either expressed or implied, with respect to the digital data and their documentation, their quality, performance, merchantability, or fitness for a particular purpose. The digital data are distributed on "as is" basis, and the user assumes all risk as to their quality, the results obtained from their use, and the performance of the data. In no event will the KBS or its representatives be liable for any direct, indirect, special, incidental or consequential damages resulting from and defect in the KBS's digital data or in their documentation. This disclaimer of warranty is exclusive and in lieu of all others, oral or written, expressed or implied. No agent or employee is authorized to make any modification, extension, or addition to this warranty. &lt;/SPAN&gt;&lt;/P&gt;&lt;/DIV&gt;&lt;/DIV&gt;&lt;/DIV&gt;</useLimit>
</Consts>
</resConst>
<envirDesc Sync="FALSE">Esri ArcGIS 10.4.1.5686</envirDesc>
<dataLang>
<languageCode Sync="TRUE" value="eng">
</languageCode>
<countryCode Sync="TRUE" value="USA">
</countryCode>
</dataLang>
<idCitation>
<resTitle Sync="TRUE">LULC2007_gen_subclu.img</resTitle>
<presForm>
<PresFormCd Sync="TRUE" value="005">
</PresFormCd>
</presForm>
</idCitation>
<spatRpType>
<SpatRepTypCd Sync="TRUE" value="002">
</SpatRepTypCd>
</spatRpType>
<dataExt>
<geoEle>
<GeoBndBox esriExtentType="search">
<exTypeCode Sync="TRUE">1</exTypeCode>
<westBL Sync="TRUE">-102.296368</westBL>
<eastBL Sync="TRUE">-94.555467</eastBL>
<northBL Sync="TRUE">40.149474</northBL>
<southBL Sync="TRUE">36.847160</southBL>
</GeoBndBox>
</geoEle>
</dataExt>
</dataIdInfo>
<spatRepInfo>
<Georect>
<axisDimension type="002">
<dimSize Sync="TRUE">21816</dimSize>
<dimResol>
<value Sync="TRUE" uom="m">30.000000</value>
</dimResol>
</axisDimension>
<axisDimension type="001">
<dimSize Sync="TRUE">11773</dimSize>
<dimResol>
<value Sync="TRUE" uom="m">30.000000</value>
</dimResol>
</axisDimension>
<cellGeo>
<CellGeoCd Sync="TRUE" value="002">
</CellGeoCd>
</cellGeo>
<numDims Sync="TRUE">2</numDims>
<tranParaAv Sync="TRUE">1</tranParaAv>
<chkPtAv Sync="TRUE">0</chkPtAv>
<cornerPts>
<pos Sync="TRUE">-532485.000000 1550535.000000</pos>
</cornerPts>
<cornerPts>
<pos Sync="TRUE">-532485.000000 1903725.000000</pos>
</cornerPts>
<cornerPts>
<pos Sync="TRUE">121995.000000 1903725.000000</pos>
</cornerPts>
<cornerPts>
<pos Sync="TRUE">121995.000000 1550535.000000</pos>
</cornerPts>
<centerPt>
<pos Sync="TRUE">-205245.000000 1727130.000000</pos>
</centerPt>
<ptInPixel>
<PixOrientCd Sync="TRUE" value="001">
</PixOrientCd>
</ptInPixel>
</Georect>
</spatRepInfo>
<contInfo>
<ImgDesc>
<covDim>
<Band>
<valUnit>
<UOM type="length">
</UOM>
</valUnit>
<dimDescrp Sync="TRUE">Layer_1</dimDescrp>
<maxVal Sync="TRUE">260.000000</maxVal>
<minVal Sync="TRUE">1.000000</minVal>
<bitsPerVal Sync="TRUE">16</bitsPerVal>
</Band>
</covDim>
<contentTyp>
<ContentTypCd Sync="TRUE" value="001">
</ContentTypCd>
</contentTyp>
</ImgDesc>
</contInfo>
<eainfo>
<detailed Name="LULC2007_gen_subclu.img.vat">
<enttyp>
<enttypl Sync="TRUE">LULC2007_gen_subclu.img.vat</enttypl>
<enttypt Sync="TRUE">Table</enttypt>
<enttypc Sync="TRUE">21</enttypc>
</enttyp>
<attr>
<attrlabl Sync="TRUE">OID</attrlabl>
<attalias Sync="TRUE">OID</attalias>
<attrtype Sync="TRUE">OID</attrtype>
<attwidth Sync="TRUE">4</attwidth>
<atprecis Sync="TRUE">0</atprecis>
<attscale Sync="TRUE">0</attscale>
<attrdef Sync="TRUE">Internal feature number.</attrdef>
<attrdefs Sync="TRUE">Esri</attrdefs>
<attrdomv>
<udom Sync="TRUE">Sequential unique whole numbers that are automatically generated.</udom>
</attrdomv>
</attr>
<attr>
<attrlabl Sync="TRUE">Value</attrlabl>
<attalias Sync="TRUE">Value</attalias>
<attrtype Sync="TRUE">Integer</attrtype>
<attwidth Sync="TRUE">9</attwidth>
<atprecis Sync="TRUE">9</atprecis>
<attscale Sync="TRUE">0</attscale>
</attr>
<attr>
<attrlabl Sync="TRUE">Count</attrlabl>
<attalias Sync="TRUE">Count</attalias>
<attrtype Sync="TRUE">Double</attrtype>
<attwidth Sync="TRUE">19</attwidth>
<atprecis Sync="TRUE">0</atprecis>
<attscale Sync="TRUE">0</attscale>
</attr>
<attr>
<attrlabl Sync="TRUE">Class</attrlabl>
<attalias Sync="TRUE">Class</attalias>
<attrtype Sync="TRUE">String</attrtype>
<attwidth Sync="TRUE">25</attwidth>
<atprecis Sync="TRUE">0</atprecis>
<attscale Sync="TRUE">0</attscale>
</attr>
</detailed>
</eainfo>
<mdLang>
<languageCode Sync="TRUE" value="eng">
</languageCode>
<countryCode Sync="TRUE" value="USA">
</countryCode>
</mdLang>
<distInfo>
<distFormat>
<formatName Sync="TRUE">Raster Dataset</formatName>
</distFormat>
</distInfo>
<mdHrLv>
<ScopeCd Sync="TRUE" value="005">
</ScopeCd>
</mdHrLv>
<mdHrLvName Sync="TRUE">dataset</mdHrLvName>
<refSysInfo>
<RefSystem>
<refSysID>
<identCode Sync="TRUE" code="0">
</identCode>
</refSysID>
</RefSystem>
</refSysInfo>
<mdDateSt Sync="TRUE">20170724</mdDateSt>
</metadata>
