{
 "currentVersion": 10.91,
 "serviceDescription": "The 2005 Kansas Land Cover Patterns (KLCP) Mapping Initiative was a two-phase mapping endeavor that occurred over a three-year period (2007-2009). Note that while the processing occurred during the 2207-2009 period, all satellite data used in the project was acquired in 2005. Concurrent with mapping the state of Kansas, the Kansas River Watershed was also mapped. The Kansas River Watershed extends into southern Nebraska and includes a portion of eastern Colorado. During Phase I a Modified Level I map was produced. In Phase II a series of maps, Modified Level II through IV, were produced. All KLCP 2005 map products were produced at four spatial extents: the state of Kansas plus a 300 meter buffer, a DEM-derived watershed boundary of the Kansas River, the Kansas River watershed boundary plus a 1,000 meter buffer, and a combined dataset of the state of Kansas plus 300 meter buffer and the watershed plus 1,000 meter buffer.These extents are annotated in the file names with the extentions k, w, wb, and kwb respectively.\n\nThe goal of Phase II was to map subclasses for grassland and cropland, classes which were mapped during Phase I. For the Level II map, cool- and warm-season grasslands were mapped along with Spring Crop, Summer Crop, Alfalfa, Fallow, and Double-Crop classes. For the Level III map, the Summer Crop subclasses Corn, Soybean, and Sorghum were mapped, and the Spring Crop class was reassigned to Winter Wheat. In the Level IV map, irrigation status was mapped and added to the Level III crop type map.The Kansas Land Cover Patterns Level IV map contains twenty-four land use/land cover classes and has a positional accuracy and spatial resolution appropriate for producing 1:50,000 scale maps. The minimum map unit (MMU) varies by land cover class and ranges from 0.22 to 5.12 acres.\n\nIn general, the mapping methodology used a hybrid, hierarchical classification of multi-temporal, multi-resolution imagery to develop modified Anderson Level II through Anderson Level IV land cover maps of the Kansas River Watershed and the State of Kansas. More specifically, multi-seasonal Landsat Thematic Mapper (TM) imagery from the 2004 and 2005 growing season was used to map the grassland subclasses (cool- and warm-season grasslands). while MODIS NDVI time-series imagery from the 2005 growing season was used to map cropland subclasses.\n\nThe land use/land cover classes in the Level IV map are coded hierarchically to allow aggregation of land use and land cover classes as needed by the end-user. For example, a user can aggregate the Level IV map classes to a Level III classification by ignoring or eliminating the last digit of each land use/land cover class. Likewise, a Level II and Level I map can be created from the Level IV map by eliminating the last two and three digits, respectively, from each Level IV land use/land cover class.\n\nA formal accuracy assessment found the Level II, Level III, and Level IV maps to have overall accuracy levels of 86.3%, 82.0%, and 74.3%, respectively. User and Producer (per-class errors of commission and omission) accuracies vary by land cover class and users are encouraged to reference the reported accuracy levels in the final report and/or metadata when using the Kansas Land Cover Patterns map series. Digital versions of the map, metadata, and accuracy assessment can be accessed from the Data Access Support Center (http://www.kansasgis.org/) or the Kansas Applied Remote Sensing Program (http://www.kars.ku.edu/).",
 "name": "KansasLandCover/2005KansasLandCover_Level_IV",
 "description": "The 2005 Kansas Land Cover Patterns (KLCP) Mapping Initiative was a two-phase mapping endeavor that occurred over a three-year period (2007-2009). Note that while the processing occurred during the 2207-2009 period, all satellite data used in the project was acquired in 2005. Concurrent with mapping the state of Kansas, the Kansas River Watershed was also mapped. The Kansas River Watershed extends into southern Nebraska and includes a portion of eastern Colorado. During Phase I a Modified Level I map was produced. In Phase II a series of maps, Modified Level II through IV, were produced. All KLCP 2005 map products were produced at four spatial extents: the state of Kansas plus a 300 meter buffer, a DEM-derived watershed boundary of the Kansas River, the Kansas River watershed boundary plus a 1,000 meter buffer, and a combined dataset of the state of Kansas plus 300 meter buffer and the watershed plus 1,000 meter buffer.These extents are annotated in the file names with the extentions k, w, wb, and kwb respectively.\n\nThe goal of Phase II was to map subclasses for grassland and cropland, classes which were mapped during Phase I. For the Level II map, cool- and warm-season grasslands were mapped along with Spring Crop, Summer Crop, Alfalfa, Fallow, and Double-Crop classes. For the Level III map, the Summer Crop subclasses Corn, Soybean, and Sorghum were mapped, and the Spring Crop class was reassigned to Winter Wheat. In the Level IV map, irrigation status was mapped and added to the Level III crop type map.The Kansas Land Cover Patterns Level IV map contains twenty-four land use/land cover classes and has a positional accuracy and spatial resolution appropriate for producing 1:50,000 scale maps. The minimum map unit (MMU) varies by land cover class and ranges from 0.22 to 5.12 acres.\n\nIn general, the mapping methodology used a hybrid, hierarchical classification of multi-temporal, multi-resolution imagery to develop modified Anderson Level II through Anderson Level IV land cover maps of the Kansas River Watershed and the State of Kansas. More specifically, multi-seasonal Landsat Thematic Mapper (TM) imagery from the 2004 and 2005 growing season was used to map the grassland subclasses (cool- and warm-season grasslands). while MODIS NDVI time-series imagery from the 2005 growing season was used to map cropland subclasses.\n\nThe land use/land cover classes in the Level IV map are coded hierarchically to allow aggregation of land use and land cover classes as needed by the end-user. For example, a user can aggregate the Level IV map classes to a Level III classification by ignoring or eliminating the last digit of each land use/land cover class. Likewise, a Level II and Level I map can be created from the Level IV map by eliminating the last two and three digits, respectively, from each Level IV land use/land cover class.\n\nA formal accuracy assessment found the Level II, Level III, and Level IV maps to have overall accuracy levels of 86.3%, 82.0%, and 74.3%, respectively. User and Producer (per-class errors of commission and omission) accuracies vary by land cover class and users are encouraged to reference the reported accuracy levels in the final report and/or metadata when using the Kansas Land Cover Patterns map series. Digital versions of the map, metadata, and accuracy assessment can be accessed from the Data Access Support Center (http://www.kansasgis.org/) or the Kansas Applied Remote Sensing Program (http://www.kars.ku.edu/).",
 "extent": {
  "xmin": -102.29858691859779,
  "ymin": 36.845315192222934,
  "xmax": -94.55350570126036,
  "ymax": 40.151250266621254,
  "spatialReference": {
   "wkid": 4269,
   "latestWkid": 4269
  }
 },
 "initialExtent": {
  "xmin": -102.29858691859779,
  "ymin": 36.845315192222934,
  "xmax": -94.55350570126036,
  "ymax": 40.151250266621254,
  "spatialReference": {
   "wkid": 4269,
   "latestWkid": 4269
  }
 },
 "fullExtent": {
  "xmin": -102.29858691859779,
  "ymin": 36.845315192222934,
  "xmax": -94.55350570126036,
  "ymax": 40.151250266621254,
  "spatialReference": {
   "wkid": 4269,
   "latestWkid": 4269
  }
 },
 "hasMultidimensions": false,
 "pixelSizeX": 3.154819233131336E-4,
 "pixelSizeY": 3.15481923313133E-4,
 "datasetFormat": "GRID",
 "uncompressedSize": 514518900,
 "blockWidth": 256,
 "blockHeight": 16,
 "compressionType": "RLE",
 "bandNames": [
  "Band_1"
 ],
 "allowCopy": true,
 "allowAnalysis": true,
 "bandCount": 1,
 "noDataValue": -32768,
 "noDataValues": [
  -32768
 ],
 "pixelType": "S16",
 "minPixelSize": 0,
 "maxPixelSize": 0,
 "copyrightText": "",
 "serviceDataType": "esriImageServiceDataTypeGeneric",
 "serviceSourceType": "esriImageServiceSourceTypeDataset",
 "minValues": [
  1100
 ],
 "maxValues": [
  6000
 ],
 "meanValues": [
  2759.942076433013
 ],
 "stdvValues": [
  625.786280740502
 ],
 "objectIdField": "",
 "fields": [],
 "capabilities": "Image,Metadata,Mensuration",
 "defaultMosaicMethod": "Center",
 "allowedMosaicMethods": "",
 "sortField": "",
 "sortValue": null,
 "sortAscending": true,
 "mosaicOperator": "First",
 "defaultCompressionQuality": 75,
 "defaultResamplingMethod": "Nearest",
 "maxImageHeight": 4100,
 "maxImageWidth": 15000,
 "allowRasterFunction": true,
 "rasterFunctionInfos": [
  {
   "name": "kclp2005l4kll",
   "description": "A raster function template.",
   "help": ""
  },
  {
   "name": "None",
   "description": "",
   "help": ""
  }
 ],
 "rasterTypeInfos": [
  {
   "name": "Raster Dataset",
   "description": "Supports all ArcGIS Raster Datasets",
   "help": ""
  }
 ],
 "mensurationCapabilities": "Basic",
 "hasHistograms": false,
 "hasColormap": false,
 "hasRasterAttributeTable": true,
 "minScale": 0,
 "maxScale": 0,
 "exportTilesAllowed": false,
 "supportsStatistics": false,
 "supportsAdvancedQueries": false,
 "editFieldsInfo": null,
 "ownershipBasedAccessControlForRasters": null,
 "allowComputeTiePoints": false,
 "useStandardizedQueries": true,
 "advancedQueryCapabilities": {
  "useStandardizedQueries": true,
  "supportsStatistics": false,
  "supportsOrderBy": false,
  "supportsDistinct": false,
  "supportsPagination": false
 },
 "spatialReference": {
  "wkid": 4269,
  "latestWkid": 4269
 }
}
