(accessed {DATE}; verified {DATE}. Kansas Applied Remote Sensing Program, Kansas Biological Survey, University of Kansas, Lawrence, Kansas.<\/SPAN><\/SPAN><\/P>Acronyms:<\/SPAN><\/SPAN><\/P>FSA = USDA Farm Service Agency<\/SPAN><\/SPAN><\/P>NASS = USDA National Agricultural Statistics Service<\/SPAN><\/SPAN><\/P>LULC = land use/land cover<\/SPAN><\/SPAN><\/P>ASD = Agricultural Statistics District (nine of these in KS; labeled 10, 20, \u2026, 90)<\/SPAN><\/SPAN><\/P>W = western ASDs (10,20,30)<\/SPAN><\/SPAN><\/P> C = central ASDs (40,50,60)<\/SPAN><\/SPAN><\/P>E = eastern ASDs (70,80,90)<\/SPAN><\/SPAN><\/P>WC = western + central ASDs (10-60)<\/SPAN><\/SPAN><\/P>CE = central + eastern ASDs (40-90)<\/SPAN><\/SPAN><\/P>I = irrigated<\/SPAN><\/SPAN><\/P>NI = non-irrigated<\/SPAN><\/SPAN><\/P>DT = boosted decision tree model<\/SPAN><\/SPAN><\/P>Overview:<\/SPAN><\/SPAN>LULC maps for 2003-2005 were produced using MODIS NDVI-based DT models. Mapped classes included alfalfa (I & NI), corn (I & NI), sorghum (I & NI), soybeans (I & NI), winter wheat (I & NI), double crop (I & NI), and fallow (NI). The ground reference dataset used for model training was developed using FSA 578 Compliance data tables from 2003-2007 and the FSA CLU spatial coverage from 2007 (more on this below). Non-cropland classes (grass/pasture, urban, water) were burned in from the 2005 Kansas Land Cover Patterns dataset previously developed at KARS for a different project. General LULC for 2006-2012 was based on USDA NASS CDL layers from these years, which do not include irrigation status. CDL crops not included in the above list were recoded to \u201cother crop\u201d. MODIS NDVI-based DT models subsequently were developed to map irrigation status (I or NI) for the above crops in the 2006-2012 LULC map set.<\/SPAN><\/SPAN><\/P>Ground reference data:<\/SPAN><\/SPAN>All monocropped CLUs with crop types from the above list were identified in the 2003-2007 FSA datasets and formed the basis for the ground reference dataset. The vast majority of irrigated records were associated with subCLUs and thus did not filter into the ground reference dataset. To supplement the population of irrigated ground reference samples, a rule set was created to identify subCLUs that were highly likely to correspond with mono-cropped, quarter-section sized center pivots (the most common irrigated footprint). Fields identified during this process were appended to the ground reference dataset, which approximately doubled the number of irrigated ground reference data samples.<\/SPAN><\/P>Models:<\/SPAN><\/SPAN>A number of DT models were developed to complete the 2003-2013 LULC map set. Due to regional similarities and differences in crop phenologies, management practices, and climatic tendencies, the state was divided into two modelling regions, WC and E. For the WC region, ground reference data from the WC ASDs were used for model development. For the E region, ground reference data from the CE ASDs were used. For the E region, ground reference data from the C region was included because there were not enough samples using E region data alone for many classes.<\/SPAN><\/SPAN><\/P>2003-2005, WC, inside POU:<\/SPAN><\/SPAN>A boosted decision tree was developed using WC ground reference data to map the following 13 classes: Alfalfa (I & NI), Corn (I & NI), Sorghum (I & NI), Soybeans (I & NI), Winter Wheat (I & NI), Double Crop (I & NI), and Fallow (NI).<\/SPAN><\/SPAN><\/P>2003-2005, WC, outside POU:<\/SPAN><\/SPAN>A boosted decision tree model was developed using non-irrigated WC ground reference data to map the following 7 classes (all non-irrigated): Alfalfa, Corn, Sorghum, Soybeans, Winter Wheat, Double Crop, and Fallow.<\/SPAN><\/SPAN><\/P>2003-2005, E, inside POU:<\/SPAN><\/SPAN>A boosted decision tree model was developed using CE ground reference data to map the following 8 classes: Alfalfa (NI), Corn (I & NI), Sorghum (NI), Soybeans (I & NI), Winter Wheat (NI), and Double Crop (NI).<\/SPAN><\/SPAN><\/P>2003-2005, E, outside POU:<\/SPAN><\/SPAN>A boosted decision tree model was developed using non-irrigated CE ground reference data to map the following 6 classes (all non-irrigated): Alfalfa, Corn, Sorghum, Soybeans, Winter Wheat, and Double Crop.<\/SPAN><\/SPAN><\/P>2006-2012, W, inside POU:<\/SPAN><\/SPAN>A boosted decision tree model (one model per crop) was developed using WC ground reference data to map I & NI status for each of Alfalfa, Corn, Sorghum, Soybeans, Winter Wheat, and Double Crop.<\/SPAN><\/SPAN><\/P>2006-2012, E, inside POU:<\/SPAN><\/SPAN>A boosted decision tree model (one model per crop) was developed using CE ground reference data to map I & NI status for each of Corn and Soybeans.<\/SPAN><\/SPAN><\/P>Irrigation Mask Development:<\/SPAN><\/SPAN>Based on the consistency of irrigation water use in Kansas during 2002-2013, as well as management and economic difficulties that preclude substantial annual spatial variations in the set of irrigated fields, it was assumed that the set of irrigated fields in Kansas was largely stable during the 10-year study period. Furthermore, past experience of the mapping team strongly suggested that the variability of mapping irrigation status on a year-by-year basis likely would result in more mapping error than creating a single, constant irrigation mask that would be applied to all 10 years of LULC maps. Consequently, a procedure was developed to utilize all of the \u201cinside POU\u201d map results and produce a single irrigation mask. Upon completion, the irrigation status layer for all 10 years of maps was modified to coincide with this final, static irrigation mask.<\/SPAN><\/SPAN><\/P>The final procedure relied on the creation and implementation of a hierarchical logical rule set that utilized LULC trajectories, USDA NASS irrigated acreage statistics, and maximum MODI NDVI values from individual fields. All available county-level USDA NASS irrigated acreage data were obtained to facilitate this process, ultimately steering crop-specific irrigated acreage totals toward the reported values.<\/SPAN><\/SPAN><\/P><\/P><\/DIV><\/DIV><\/DIV>",
"extent": {
"xmin": -532485,
"ymin": 1550535,
"xmax": 121995,
"ymax": 1903725,
"spatialReference": {"wkt": "PROJCS[\"Albers_Conical_Equal_Area\",GEOGCS[\"GCS_North_American_1983\",DATUM[\"D_North_American_1983\",SPHEROID[\"GRS_1980\",6378137.0,298.257222101]],PRIMEM[\"Greenwich\",0.0],UNIT[\"Degree\",0.0174532925199433]],PROJECTION[\"Albers\"],PARAMETER[\"false_easting\",0.0],PARAMETER[\"false_northing\",0.0],PARAMETER[\"central_meridian\",-96.0],PARAMETER[\"standard_parallel_1\",29.5],PARAMETER[\"standard_parallel_2\",45.5],PARAMETER[\"latitude_of_origin\",23.0],UNIT[\"Meter\",1.0]]"}
},
"initialExtent": {
"xmin": -532485,
"ymin": 1550535,
"xmax": 121995,
"ymax": 1903725,
"spatialReference": {"wkt": "PROJCS[\"Albers_Conical_Equal_Area\",GEOGCS[\"GCS_North_American_1983\",DATUM[\"D_North_American_1983\",SPHEROID[\"GRS_1980\",6378137.0,298.257222101]],PRIMEM[\"Greenwich\",0.0],UNIT[\"Degree\",0.0174532925199433]],PROJECTION[\"Albers\"],PARAMETER[\"false_easting\",0.0],PARAMETER[\"false_northing\",0.0],PARAMETER[\"central_meridian\",-96.0],PARAMETER[\"standard_parallel_1\",29.5],PARAMETER[\"standard_parallel_2\",45.5],PARAMETER[\"latitude_of_origin\",23.0],UNIT[\"Meter\",1.0]]"}
},
"fullExtent": {
"xmin": -532485,
"ymin": 1550535,
"xmax": 121995,
"ymax": 1903725,
"spatialReference": {"wkt": "PROJCS[\"Albers_Conical_Equal_Area\",GEOGCS[\"GCS_North_American_1983\",DATUM[\"D_North_American_1983\",SPHEROID[\"GRS_1980\",6378137.0,298.257222101]],PRIMEM[\"Greenwich\",0.0],UNIT[\"Degree\",0.0174532925199433]],PROJECTION[\"Albers\"],PARAMETER[\"false_easting\",0.0],PARAMETER[\"false_northing\",0.0],PARAMETER[\"central_meridian\",-96.0],PARAMETER[\"standard_parallel_1\",29.5],PARAMETER[\"standard_parallel_2\",45.5],PARAMETER[\"latitude_of_origin\",23.0],UNIT[\"Meter\",1.0]]"}
},
"hasMultidimensions": false,
"pixelSizeX": 30,
"pixelSizeY": 30,
"datasetFormat": "IMAGINE Image",
"uncompressedSize": 513679536,
"blockWidth": 64,
"blockHeight": 64,
"compressionType": "RLE",
"bandNames": [
"Layer_1"
],
"allowCopy": true,
"allowAnalysis": true,
"bandCount": 1,
"noDataValue": 65535,
"noDataValues": [
65535
],
"pixelType": "U16",
"minPixelSize": 0,
"maxPixelSize": 0,
"copyrightText": "Kansas Applied Remote Sensing Program and Kansas Biological Survey",
"serviceDataType": "esriImageServiceDataTypeGeneric",
"serviceSourceType": "esriImageServiceSourceTypeDataset",
"minValues": [
1
],
"maxValues": [
260
],
"meanValues": [
59.243364787763
],
"stdvValues": [
54.370630846867
],
"objectIdField": "",
"fields": [],
"capabilities": "Image,Metadata,Mensuration",
"defaultMosaicMethod": "Center",
"allowedMosaicMethods": "",
"sortField": "",
"sortValue": null,
"sortAscending": true,
"mosaicOperator": "First",
"defaultCompressionQuality": 75,
"defaultResamplingMethod": "Nearest",
"maxImageHeight": 4100,
"maxImageWidth": 15000,
"allowRasterFunction": true,
"rasterFunctionInfos": [
{
"name": "BACC_FLUC_LULC",
"description": "A raster function template.",
"help": ""
},
{
"name": "None",
"description": "",
"help": ""
}
],
"rasterTypeInfos": [
{
"name": "Raster Dataset",
"description": "Supports all ArcGIS Raster Datasets",
"help": ""
}
],
"mensurationCapabilities": "Basic",
"hasHistograms": true,
"hasColormap": true,
"hasRasterAttributeTable": true,
"minScale": 0,
"maxScale": 0,
"exportTilesAllowed": false,
"supportsStatistics": false,
"supportsAdvancedQueries": false,
"editFieldsInfo": null,
"ownershipBasedAccessControlForRasters": null,
"allowComputeTiePoints": false,
"useStandardizedQueries": true,
"advancedQueryCapabilities": {
"useStandardizedQueries": true,
"supportsStatistics": false,
"supportsOrderBy": false,
"supportsDistinct": false,
"supportsPagination": false
},
"spatialReference": {"wkt": "PROJCS[\"Albers_Conical_Equal_Area\",GEOGCS[\"GCS_North_American_1983\",DATUM[\"D_North_American_1983\",SPHEROID[\"GRS_1980\",6378137.0,298.257222101]],PRIMEM[\"Greenwich\",0.0],UNIT[\"Degree\",0.0174532925199433]],PROJECTION[\"Albers\"],PARAMETER[\"false_easting\",0.0],PARAMETER[\"false_northing\",0.0],PARAMETER[\"central_meridian\",-96.0],PARAMETER[\"standard_parallel_1\",29.5],PARAMETER[\"standard_parallel_2\",45.5],PARAMETER[\"latitude_of_origin\",23.0],UNIT[\"Meter\",1.0]]"}
}