<?xml version="1.0" encoding="UTF-8" standalone="no"?>
<metadata xml:lang="en">
<Esri>
<CreaDate>20090212</CreaDate>
<CreaTime>16325400</CreaTime>
<SyncOnce>FALSE</SyncOnce>
<SyncDate>20210715</SyncDate>
<SyncTime>14283900</SyncTime>
<ModDate>20210715</ModDate>
<ModTime>14283900</ModTime>
<MetaID>{699F63BC-7A5B-43CE-9A0D-41057D34D9B7}</MetaID>
<DataProperties>
<itemProps>
<itemName Sync="TRUE">klcp1990_updt</itemName>
<imsContentType Sync="TRUE">002</imsContentType>
<nativeExtBox>
<westBL Sync="TRUE">-532660.000000</westBL>
<eastBL Sync="TRUE">122150.000000</eastBL>
<southBL Sync="TRUE">1550344.000000</southBL>
<northBL Sync="TRUE">1903924.000000</northBL>
<exTypeCode Sync="TRUE">1</exTypeCode>
</nativeExtBox>
</itemProps>
<coordRef>
<type Sync="TRUE">Projected</type>
<geogcsn Sync="TRUE">GCS_North_American_1983</geogcsn>
<csUnits Sync="TRUE">Linear Unit: Meter (1.000000)</csUnits>
<projcsn Sync="TRUE">NAD_1983_Albers</projcsn>
<peXml Sync="TRUE">&lt;ProjectedCoordinateSystem xsi:type='typens:ProjectedCoordinateSystem' xmlns:xsi='http://www.w3.org/2001/XMLSchema-instance' xmlns:xs='http://www.w3.org/2001/XMLSchema' xmlns:typens='http://www.esri.com/schemas/ArcGIS/10.4'&gt;&lt;WKT&gt;PROJCS[&amp;quot;NAD_1983_Albers&amp;quot;,GEOGCS[&amp;quot;GCS_North_American_1983&amp;quot;,DATUM[&amp;quot;D_North_American_1983&amp;quot;,SPHEROID[&amp;quot;GRS_1980&amp;quot;,6378137.0,298.257222101]],PRIMEM[&amp;quot;Greenwich&amp;quot;,0.0],UNIT[&amp;quot;Degree&amp;quot;,0.0174532925199433]],PROJECTION[&amp;quot;Albers&amp;quot;],PARAMETER[&amp;quot;False_Easting&amp;quot;,0.0],PARAMETER[&amp;quot;False_Northing&amp;quot;,0.0],PARAMETER[&amp;quot;Central_Meridian&amp;quot;,-96.0],PARAMETER[&amp;quot;Standard_Parallel_1&amp;quot;,29.5],PARAMETER[&amp;quot;Standard_Parallel_2&amp;quot;,45.5],PARAMETER[&amp;quot;Latitude_Of_Origin&amp;quot;,23.0],UNIT[&amp;quot;Meter&amp;quot;,1.0]]&lt;/WKT&gt;&lt;XOrigin&gt;-16901100&lt;/XOrigin&gt;&lt;YOrigin&gt;-6972200&lt;/YOrigin&gt;&lt;XYScale&gt;266467840.99085236&lt;/XYScale&gt;&lt;ZOrigin&gt;-100000&lt;/ZOrigin&gt;&lt;ZScale&gt;10000&lt;/ZScale&gt;&lt;MOrigin&gt;-100000&lt;/MOrigin&gt;&lt;MScale&gt;10000&lt;/MScale&gt;&lt;XYTolerance&gt;0.001&lt;/XYTolerance&gt;&lt;ZTolerance&gt;0.001&lt;/ZTolerance&gt;&lt;MTolerance&gt;0.001&lt;/MTolerance&gt;&lt;HighPrecision&gt;true&lt;/HighPrecision&gt;&lt;/ProjectedCoordinateSystem&gt;</peXml>
</coordRef>
<RasterProperties>
<General>
<PixelDepth Sync="TRUE">8</PixelDepth>
<HasColormap Sync="TRUE">FALSE</HasColormap>
<CompressionType Sync="TRUE">RLE</CompressionType>
<NumBands Sync="TRUE">1</NumBands>
<Format Sync="TRUE">GRID</Format>
<HasPyramids Sync="TRUE">TRUE</HasPyramids>
<SourceType Sync="TRUE">continuous</SourceType>
<PixelType Sync="TRUE">unsigned integer</PixelType>
<NoDataValue Sync="TRUE">0</NoDataValue>
</General>
</RasterProperties>
</DataProperties>
</Esri>
<idinfo>
<native Sync="FALSE">ESRI ArcCatalog 9.2.6.1500</native>
<descript>
<langdata Sync="TRUE">en</langdata>
<abstract>In 2008, an update of the 1990 Kansas Land Cover Patterns (KLCP) database was undertaken. The 1990 KLCP database depicts 10 general land cover classes for the State of Kansas. The database was compiled from a digital classification of single-date Landsat Thematic Mapper (TM) imagery. The update version differs from the original release in four ways. First, the data format for the original release was an ArcInfo coverage, while the update release is an ArcInfo GRID. Second, the original's projection was Geographic with NAD83 datum. The update's projection is Albers Conic Equal Area with NAD83 datum. Third, the coding scheme for land cover classes was changed to match the coding scheme used in the 2005 Kansas Land Cover Patterns database. Fourth, an additional generalization procedure that was utilized for the 2005 KLCP database was applied to the 1990 KLCP database (see addendum to Process Description). This update facilitates comparing the 1990 KLCP dataset to the 2005 KLCP dataset on a more equal basis.</abstract>
<purpose>This database was developed as part of the Core Database for the State of Kansas. It is suited for county-level and watershed-level analyzes that involve land use and land cover.</purpose>
</descript>
<citation>
<citeinfo>
<origin>Kansas Applied Remote Sensing (KARS) Program</origin>
<pubdate>2008</pubdate>
<title>1990 Kansas Land Cover Patterns Update</title>
<ftname Sync="TRUE">klcp1990_updt</ftname>
<onlink Sync="FALSE">withheld</onlink>
<geoform Sync="TRUE">raster digital data</geoform>
<edition>2nd</edition>
</citeinfo>
</citation>
<timeperd>
<current>image acquisition date</current>
<timeinfo>
<rngdates>
<begdate>June 1988</begdate>
<endtime>September 1990</endtime>
</rngdates>
</timeinfo>
</timeperd>
<status>
<progress>Complete</progress>
<update>As needed</update>
</status>
<spdom>
<bounding>
<westbc Sync="TRUE">-102.298587</westbc>
<eastbc Sync="TRUE">-94.553596</eastbc>
<northbc Sync="TRUE">40.151250</northbc>
<southbc Sync="TRUE">36.845359</southbc>
</bounding>
<lboundng>
<leftbc Sync="TRUE">-532660.000000</leftbc>
<rightbc Sync="TRUE">122150.000000</rightbc>
<bottombc Sync="TRUE">1550344.000000</bottombc>
<topbc Sync="TRUE">1903924.000000</topbc>
</lboundng>
</spdom>
<keywords>
<theme>
<themekt>REQUIRED: Reference to a formally registered thesaurus or a similar authoritative source of theme keywords.</themekt>
<themekey>Land Cover</themekey>
<themekey>Land Use</themekey>
<themekey>Cropland</themekey>
<themekey>Grassland</themekey>
<themekey>Woodland</themekey>
<themekey>Urban</themekey>
<themekey>Water</themekey>
</theme>
</keywords>
<accconst>None</accconst>
<useconst>This database is not suited for site-specific analyzes. Interpretations derived from its use are intended for planning purposes only.</useconst>
<natvform Sync="TRUE">Raster Dataset</natvform>
<ptcontac>
<cntinfo>
<cntorgp>
<cntorg>Kansas Applied Remote Sensing (KARS) Program</cntorg>
<cntper>Jerry Whislter</cntper>
</cntorgp>
<cntpos>Research Associate</cntpos>
<cntvoice>785-864-1513</cntvoice>
<cntfax>785-864-1534</cntfax>
<cntemail>whistler@ku.edu</cntemail>
<cntaddr>
<addrtype>mailing and physical address</addrtype>
<address>2101 Constant Avenue</address>
<city>Lawrence</city>
<state>KS</state>
<postal>66047-3759 </postal>
<country>USA</country>
</cntaddr>
</cntinfo>
</ptcontac>
<crossref>
<citeinfo>
<origin>Kansas Applied Remote Sensing (KARS) Program</origin>
<pubdate>2008</pubdate>
<title>1990 Kansas Land Cover Patterns Update</title>
<edition>2nd</edition>
</citeinfo>
</crossref>
<datacred>Kansas Applied Remote Sensing, 2008</datacred>
<secinfo>
<secclass>Unclassified</secclass>
</secinfo>
</idinfo>
<dataIdInfo>
<envirDesc Sync="TRUE"> Version 6.2 (Build 9200) ; Esri ArcGIS 10.4.1.5686</envirDesc>
<dataLang>
<languageCode Sync="TRUE" value="eng">
</languageCode>
<countryCode Sync="TRUE" value="USA">
</countryCode>
</dataLang>
<idCitation>
<resTitle Sync="TRUE">klcp1990_updt</resTitle>
<presForm>
<PresFormCd Sync="TRUE" value="005">
</PresFormCd>
</presForm>
</idCitation>
<spatRpType>
<SpatRepTypCd Sync="TRUE" value="002">
</SpatRepTypCd>
</spatRpType>
<dataExt>
<geoEle>
<GeoBndBox esriExtentType="native">
<westBL Sync="TRUE">-532660</westBL>
<eastBL Sync="TRUE">122150</eastBL>
<northBL Sync="TRUE">1903924</northBL>
<southBL Sync="TRUE">1550344</southBL>
<exTypeCode Sync="TRUE">1</exTypeCode>
</GeoBndBox>
</geoEle>
</dataExt>
<geoBox esriExtentType="decdegrees">
<westBL Sync="TRUE">-102.298587</westBL>
<eastBL Sync="TRUE">-94.553596</eastBL>
<northBL Sync="TRUE">40.15125</northBL>
<southBL Sync="TRUE">36.845359</southBL>
<exTypeCode Sync="TRUE">1</exTypeCode>
</geoBox>
<dataExt>
<geoEle>
<GeoBndBox esriExtentType="search">
<exTypeCode Sync="TRUE">1</exTypeCode>
<westBL Sync="TRUE">-102.298587</westBL>
<eastBL Sync="TRUE">-94.553596</eastBL>
<northBL Sync="TRUE">40.151250</northBL>
<southBL Sync="TRUE">36.845359</southBL>
</GeoBndBox>
</geoEle>
</dataExt>
<idAbs>In 2008, an update of the 1990 Kansas Land Cover Patterns (KLCP) database was undertaken. The 1990 KLCP database depicts 10 general land cover classes for the State of Kansas. The database was compiled from a digital classification of single-date Landsat Thematic Mapper (TM) imagery. The update version differs from the original release in four ways. First, the data format for the original release was an ArcInfo coverage, while the update release is an ArcInfo GRID. Second, the original's projection was Geographic with NAD83 datum. The update's projection is Albers Conic Equal Area with NAD83 datum. Third, the coding scheme for land cover classes was changed to match the coding scheme used in the 2005 Kansas Land Cover Patterns database. Fourth, an additional generalization procedure that was utilized for the 2005 KLCP database was applied to the 1990 KLCP database (see addendum to Process Description). This update facilitates comparing the 1990 KLCP dataset to the 2005 KLCP dataset on a more equal basis.</idAbs>
<searchKeys>
<keyword>Land Cover</keyword>
<keyword>Land Use</keyword>
<keyword>Cropland</keyword>
<keyword>Grassland</keyword>
<keyword>Woodland</keyword>
<keyword>Urban</keyword>
<keyword>Water</keyword>
</searchKeys>
<idPurp>This database was developed as part of the Core Database for the State of Kansas. It is suited for county-level and watershed-level analyzes that involve land...</idPurp>
<idCredit/>
<resConst>
<Consts>
<useLimit/>
</Consts>
</resConst>
</dataIdInfo>
<metainfo>
<langmeta Sync="TRUE">en</langmeta>
<metstdn Sync="TRUE">FGDC Content Standards for Digital Geospatial Metadata</metstdn>
<metstdv Sync="TRUE">FGDC-STD-001-1998</metstdv>
<mettc Sync="TRUE">local time</mettc>
<metc>
<cntinfo>
<cntorgp>
<cntper>Jerry Whistler</cntper>
<cntorg>Kansas Applied Remote Sensing (KARS) Program</cntorg>
</cntorgp>
<cntaddr>
<addrtype>mailing and physical address</addrtype>
<city>Lawrence</city>
<state>KS</state>
<postal>66047-3759</postal>
<address>2101 Constant Avenue</address>
<country>USA</country>
</cntaddr>
<cntvoice>785-864-1513</cntvoice>
<cntfax>785-864-1534</cntfax>
<cntemail>whistler@ku.edu</cntemail>
</cntinfo>
</metc>
<metd Sync="TRUE">20090216</metd>
</metainfo>
<mdLang>
<languageCode Sync="TRUE" value="eng">
</languageCode>
<countryCode Sync="TRUE" value="USA">
</countryCode>
</mdLang>
<mdStanName Sync="TRUE">ISO 19115 Geographic Information - Metadata</mdStanName>
<mdStanVer Sync="TRUE">DIS_ESRI1.0</mdStanVer>
<mdChar>
<CharSetCd Sync="TRUE" value="004">
</CharSetCd>
</mdChar>
<mdHrLv>
<ScopeCd Sync="TRUE" value="005">
</ScopeCd>
</mdHrLv>
<mdHrLvName Sync="TRUE">dataset</mdHrLvName>
<distInfo>
<distributor>
<distorTran>
<onLineSrc>
<linkage Sync="FALSE">withheld</linkage>
<protocol Sync="TRUE">Local Area Network</protocol>
<orDesc Sync="TRUE">002</orDesc>
</onLineSrc>
<transSize Sync="TRUE">24.797</transSize>
</distorTran>
<distorFormat>
<formatName Sync="TRUE">Raster Dataset</formatName>
</distorFormat>
</distributor>
<distFormat>
<formatName Sync="TRUE">Raster Dataset</formatName>
</distFormat>
</distInfo>
<distinfo>
<resdesc Sync="TRUE">Downloadable Data</resdesc>
<stdorder>
<digform>
<digtinfo>
<transize Sync="TRUE">24.797</transize>
<dssize Sync="TRUE">24.797</dssize>
<formname>ARCG</formname>
</digtinfo>
<digtopt>
<onlinopt>
<computer>
<networka>
<networkr>http://www.KansasGIS.org</networkr>
</networka>
</computer>
<accinstr>Connect to www.KansasGIS.org and look at the Browse and Download Data section.</accinstr>
</onlinopt>
<offoptn>
<offmedia>CD-ROM, DVD</offmedia>
<recfmt>ISO 9660</recfmt>
</offoptn>
</digtopt>
</digform>
<fees>Under the Kansas Public Records Law, DASC will attempt only to recover the costs related to the processing and distribution of core database requests. The following is a description of our Primary and Secondary Conversion Services, as well as costs associated with the distribution of digital data: Conversion Services - DASC will provide conversion services to all Federal/State/municipal tax support agencies/entities for the cost of media and shipping and handling. Conversion services shall include the exportation of the Core Database in their native projection and tiling scheme into DASC supported spatial data exchange formats and technical support for the loading and importation of the data. Conversion services are provided to other than tax-supported organizations on a fee-for-service basis. Conversion Services - DASC will provide conversion services to all organizations on a fee-for-service basis. Services shall include the alteration of a Core Database's native projection, tiling scheme, or topological structure. Secondary services also include custom map production. Where applicable, recoverable cost include: 1. Labor to process the request 2. Computer processing time to extract/convert database 3. Media to distribute the data 4. Shipping and handling charges 5. Tax. The following fees are associated with each of the recoverable items: 1. Labor: $45.00/Hour 2. Central Processing Unit (CPU) computer time: Call for Information. 3. Media: Call for Information. Network Transfer: No Charge 4. Shipping and Handling: Varies 5. Tax (State of Kansas): Varies</fees>
</stdorder>
<distrib>
<cntinfo>
<cntperp>
<cntorg>Data Access and Support Center</cntorg>
</cntperp>
<cntaddr>
<addrtype>mailing and physical address</addrtype>
<address>1930 Constant Avenue</address>
<city>Lawrence</city>
<state>KS</state>
<postal>66047-3726</postal>
<country>USA</country>
</cntaddr>
<cntvoice>785-864-3965</cntvoice>
<cntfax>785-864-5317</cntfax>
<cntemail>dasc@kgs.ku.edu</cntemail>
<hours>0800-1700</hours>
</cntinfo>
</distrib>
<distliab>The State of Kansas Geographic Information Systems Core Database's digital data have been tested and their documentation carefully reviewed. However, the State of Kansas Geographic Information Systems Policy Board's Data Access and Support Center and its representatives make no warranty or representation, either expressed or implied, with respect to the digital data and their documentation, their quality, performance, merchantability, or fitness for a particular purpose. The digital data are distributed on "as is" basis, and the user assumes all risk to their quality, the results obtained from their use, and the performance of the data. In no event will the State of Kansas Geographic Information Systems Policy Board or its representatives be liable for any direct, indirect, special, incidental or consequential damages resulting from and defect in the State of Kansas Geographic Information Systems Core Database's digital data or in their documentation. This disclaimer of warranty is exclusive and in lieu of all others, oral or written, express or implied. No agent or employee is authorized to make any modification, extension, or addition to this warranty. </distliab>
</distinfo>
<spdoinfo>
<direct Sync="TRUE">Raster</direct>
<rastinfo>
<rasttype Sync="TRUE">Grid Cell</rasttype>
<rowcount Sync="TRUE">11786</rowcount>
<colcount Sync="TRUE">21827</colcount>
<rastxsz Sync="TRUE">30.000000</rastxsz>
<rastysz Sync="TRUE">30.000000</rastysz>
<rastbpp Sync="TRUE">8</rastbpp>
<vrtcount Sync="TRUE">1</vrtcount>
<rastorig Sync="TRUE">Upper Left</rastorig>
<rastcmap Sync="TRUE">FALSE</rastcmap>
<rastcomp Sync="TRUE">Default</rastcomp>
<rastband Sync="TRUE">1</rastband>
<rastdtyp Sync="TRUE">matrix values</rastdtyp>
<rastplyr Sync="TRUE">FALSE</rastplyr>
<rastifor Sync="TRUE">
</rastifor>
</rastinfo>
</spdoinfo>
<spref>
<horizsys>
<cordsysn>
<geogcsn Sync="TRUE">GCS_North_American_1983</geogcsn>
<projcsn Sync="TRUE">NAD_1983_Albers</projcsn>
</cordsysn>
<planar>
<planci>
<plance Sync="TRUE">row and column</plance>
<plandu Sync="TRUE">meters</plandu>
<coordrep>
<absres Sync="TRUE">30.000000</absres>
<ordres Sync="TRUE">30.000000</ordres>
</coordrep>
</planci>
</planar>
<geodetic>
<horizdn Sync="TRUE">North American Datum of 1983</horizdn>
<ellips Sync="TRUE">Geodetic Reference System 80</ellips>
<semiaxis Sync="TRUE">6378137.000000</semiaxis>
<denflat Sync="TRUE">298.257222</denflat>
</geodetic>
</horizsys>
</spref>
<refSysInfo>
<RefSystem>
<refSysID>
<identCode Sync="TRUE" code="0">NAD_1983_Albers</identCode>
</refSysID>
</RefSystem>
</refSysInfo>
<spatRepInfo>
<GridSpatRep>
<numDims Sync="TRUE">2</numDims>
<cellGeo>
<CellGeoCd Sync="TRUE" value="002">
</CellGeoCd>
</cellGeo>
<tranParaAv Sync="TRUE">1</tranParaAv>
<axDimProps>
<Dimen>
<dimName>
<DimNameTypCd Sync="TRUE" value="002">
</DimNameTypCd>
</dimName>
<dimSize Sync="TRUE">21827</dimSize>
<dimResol>
<value Sync="TRUE">30</value>
<uom>
<UomLength>
<uomName Sync="TRUE">Meter</uomName>
<conversionToISOstandardUnit Sync="TRUE">1 Meter = 1 Meter(s)</conversionToISOstandardUnit>
</UomLength>
</uom>
</dimResol>
</Dimen>
<Dimen>
<dimName>
<DimNameTypCd Sync="TRUE" value="001">
</DimNameTypCd>
</dimName>
<dimSize Sync="TRUE">11786</dimSize>
<dimResol>
<value Sync="TRUE">30</value>
<uom>
<UomLength>
<uomName Sync="TRUE">Meter</uomName>
<conversionToISOstandardUnit Sync="TRUE">1 Meter = 1 Meter(s)</conversionToISOstandardUnit>
</UomLength>
</uom>
</dimResol>
</Dimen>
</axDimProps>
</GridSpatRep>
<Georect>
<cellGeo>
<CellGeoCd Sync="TRUE" value="002">
</CellGeoCd>
</cellGeo>
<numDims Sync="TRUE">2</numDims>
<tranParaAv Sync="TRUE">1</tranParaAv>
<chkPtAv Sync="TRUE">0</chkPtAv>
<cornerPts>
<pos Sync="TRUE">-532660.000000 1550344.000000</pos>
</cornerPts>
<cornerPts>
<pos Sync="TRUE">-532660.000000 1903924.000000</pos>
</cornerPts>
<cornerPts>
<pos Sync="TRUE">122150.000000 1903924.000000</pos>
</cornerPts>
<cornerPts>
<pos Sync="TRUE">122150.000000 1550344.000000</pos>
</cornerPts>
<centerPt>
<pos Sync="TRUE">-205255.000000 1727134.000000</pos>
</centerPt>
<axisDimension type="002">
<dimSize Sync="TRUE">21827</dimSize>
<dimResol>
<value Sync="TRUE" uom="m">30.000000</value>
</dimResol>
</axisDimension>
<axisDimension type="001">
<dimSize Sync="TRUE">11786</dimSize>
<dimResol>
<value Sync="TRUE" uom="m">30.000000</value>
</dimResol>
</axisDimension>
<ptInPixel>
<PixOrientCd Sync="TRUE" value="001">
</PixOrientCd>
</ptInPixel>
</Georect>
</spatRepInfo>
<eainfo>
<detailed Name="klcp1990_updt.vat">
<enttyp>
<enttypl Sync="TRUE">klcp1990_updt.vat</enttypl>
<enttypt Sync="TRUE">Table</enttypt>
<enttypc Sync="TRUE">10</enttypc>
</enttyp>
<attr>
<attrlabl Sync="TRUE">Rowid</attrlabl>
<attalias Sync="TRUE">Rowid</attalias>
<attrtype Sync="TRUE">OID</attrtype>
<attwidth Sync="TRUE">4</attwidth>
<atprecis Sync="TRUE">0</atprecis>
<attscale Sync="TRUE">0</attscale>
<attrdef Sync="TRUE">Internal feature number.</attrdef>
<attrdefs Sync="TRUE">ESRI</attrdefs>
<attrdomv>
<udom Sync="TRUE">Sequential unique whole numbers that are automatically generated.</udom>
</attrdomv>
</attr>
<attr>
<attrlabl Sync="TRUE">VALUE</attrlabl>
<attalias Sync="TRUE">VALUE</attalias>
<attrtype Sync="TRUE">Integer</attrtype>
<attwidth Sync="TRUE">4</attwidth>
<atprecis Sync="TRUE">0</atprecis>
<attscale Sync="TRUE">0</attscale>
<attrdomv>
<edom>
<edomv>11</edomv>
<edomvd>Commercial/Industrial</edomvd>
</edom>
<edom>
<edomv>12</edomv>
<edomvd>Residential</edomvd>
</edom>
<edom>
<edomv>13</edomv>
<edomvd>Urban Openland</edomvd>
</edom>
<edom>
<edomv>14</edomv>
<edomvd>Urban Woodland</edomvd>
</edom>
<edom>
<edomv>15</edomv>
<edomvd>Urban Water</edomvd>
</edom>
<edom>
<edomv>20</edomv>
<edomvd>Cropland</edomvd>
</edom>
<edom>
<edomv>30</edomv>
<edomvd>Grassland</edomvd>
</edom>
<edom>
<edomv>31</edomv>
<edomvd>CRP Land</edomvd>
</edom>
<edom>
<edomv>40</edomv>
<edomvd>Woodland</edomvd>
</edom>
<edom>
<edomv>50</edomv>
<edomvd>Water</edomvd>
</edom>
<edom>
<edomv>60</edomv>
<edomvd>Other</edomvd>
</edom>
</attrdomv>
</attr>
<attr>
<attrlabl Sync="TRUE">COUNT</attrlabl>
<attalias Sync="TRUE">COUNT</attalias>
<attrtype Sync="TRUE">Integer</attrtype>
<attwidth Sync="TRUE">4</attwidth>
<atprecis Sync="TRUE">0</atprecis>
<attscale Sync="TRUE">0</attscale>
<attrdomv>
<udom>Sequential unique whole numbers that are automatically generated.</udom>
</attrdomv>
</attr>
<attr>
<attrlabl Sync="TRUE">LULC_NAME</attrlabl>
<attalias Sync="TRUE">LULC_NAME</attalias>
<attrtype Sync="TRUE">String</attrtype>
<attwidth Sync="TRUE">50</attwidth>
<atprecis Sync="TRUE">0</atprecis>
<attscale Sync="TRUE">0</attscale>
</attr>
</detailed>
</eainfo>
<mdDateSt Sync="TRUE">20210715</mdDateSt>
<dataqual>
<lineage>
<procstep>
