{
 "currentVersion": 10.91,
 "serviceDescription": "KansasEcologicalMappingSystems",
 "name": "KansasEcologicalMappingSystems",
 "description": "",
 "extent": {
  "xmin": -532433.9168001137,
  "ymin": 1550406.6645997558,
  "xmax": 122006.08319988626,
  "ymax": 1903636.6645997558,
  "spatialReference": {"wkt": "PROJCS[\"WGS_1984_Albers\",GEOGCS[\"GCS_WGS_1984\",DATUM[\"D_WGS_1984\",SPHEROID[\"WGS_1984\",6378137.0,298.257223563]],PRIMEM[\"Greenwich\",0.0],UNIT[\"Degree\",0.0174532925199433]],PROJECTION[\"Albers\"],PARAMETER[\"false_easting\",0.0],PARAMETER[\"false_northing\",0.0],PARAMETER[\"central_meridian\",-96.0],PARAMETER[\"standard_parallel_1\",29.5],PARAMETER[\"standard_parallel_2\",45.5],PARAMETER[\"latitude_of_origin\",23.0],UNIT[\"Meter\",1.0]]"}
 },
 "initialExtent": {
  "xmin": -532433.9168001137,
  "ymin": 1550406.6645997558,
  "xmax": 122006.08319988626,
  "ymax": 1903636.6645997558,
  "spatialReference": {"wkt": "PROJCS[\"WGS_1984_Albers\",GEOGCS[\"GCS_WGS_1984\",DATUM[\"D_WGS_1984\",SPHEROID[\"WGS_1984\",6378137.0,298.257223563]],PRIMEM[\"Greenwich\",0.0],UNIT[\"Degree\",0.0174532925199433]],PROJECTION[\"Albers\"],PARAMETER[\"false_easting\",0.0],PARAMETER[\"false_northing\",0.0],PARAMETER[\"central_meridian\",-96.0],PARAMETER[\"standard_parallel_1\",29.5],PARAMETER[\"standard_parallel_2\",45.5],PARAMETER[\"latitude_of_origin\",23.0],UNIT[\"Meter\",1.0]]"}
 },
 "fullExtent": {
  "xmin": -532433.9168001137,
  "ymin": 1550406.6645997558,
  "xmax": 122006.08319988626,
  "ymax": 1903636.6645997558,
  "spatialReference": {"wkt": "PROJCS[\"WGS_1984_Albers\",GEOGCS[\"GCS_WGS_1984\",DATUM[\"D_WGS_1984\",SPHEROID[\"WGS_1984\",6378137.0,298.257223563]],PRIMEM[\"Greenwich\",0.0],UNIT[\"Degree\",0.0174532925199433]],PROJECTION[\"Albers\"],PARAMETER[\"false_easting\",0.0],PARAMETER[\"false_northing\",0.0],PARAMETER[\"central_meridian\",-96.0],PARAMETER[\"standard_parallel_1\",29.5],PARAMETER[\"standard_parallel_2\",45.5],PARAMETER[\"latitude_of_origin\",23.0],UNIT[\"Meter\",1.0]]"}
 },
 "hasMultidimensions": false,
 "pixelSizeX": 10,
 "pixelSizeY": 10,
 "datasetFormat": "TIFF",
 "uncompressedSize": 2311678412,
 "blockWidth": 128,
 "blockHeight": 128,
 "compressionType": "LZW",
 "bandNames": [
  "Band_1"
 ],
 "allowCopy": true,
 "allowAnalysis": true,
 "bandCount": 1,
 "noDataValue": 127,
 "noDataValues": [
  127
 ],
 "pixelType": "S8",
 "minPixelSize": 0,
 "maxPixelSize": 0,
 "copyrightText": "",
 "serviceDataType": "esriImageServiceDataTypeThematic",
 "serviceSourceType": "esriImageServiceSourceTypeDataset",
 "minValues": [
  1
 ],
 "maxValues": [
  115
 ],
 "meanValues": [
  63.56908823819
 ],
 "stdvValues": [
  31.694672287567
 ],
 "objectIdField": "",
 "fields": [],
 "capabilities": "Image,Metadata,Mensuration",
 "defaultMosaicMethod": "Center",
 "allowedMosaicMethods": "",
 "sortField": "",
 "sortValue": null,
 "sortAscending": true,
 "mosaicOperator": "First",
 "defaultCompressionQuality": 75,
 "defaultResamplingMethod": "Bilinear",
 "maxImageHeight": 4100,
 "maxImageWidth": 15000,
 "allowRasterFunction": true,
 "rasterFunctionInfos": [
  {
   "name": "None",
   "description": "",
   "help": ""
  }
 ],
 "rasterTypeInfos": [
  {
   "name": "Raster Dataset",
   "description": "Supports all ArcGIS Raster Datasets",
   "help": ""
  }
 ],
 "mensurationCapabilities": "Basic",
 "hasHistograms": true,
 "hasColormap": false,
 "hasRasterAttributeTable": true,
 "minScale": 0,
 "maxScale": 0,
 "exportTilesAllowed": false,
 "supportsStatistics": false,
 "supportsAdvancedQueries": false,
 "editFieldsInfo": null,
 "ownershipBasedAccessControlForRasters": null,
 "allowComputeTiePoints": false,
 "useStandardizedQueries": true,
 "advancedQueryCapabilities": {
  "useStandardizedQueries": true,
  "supportsStatistics": false,
  "supportsOrderBy": false,
  "supportsDistinct": false,
  "supportsPagination": false
 },
 "spatialReference": {"wkt": "PROJCS[\"WGS_1984_Albers\",GEOGCS[\"GCS_WGS_1984\",DATUM[\"D_WGS_1984\",SPHEROID[\"WGS_1984\",6378137.0,298.257223563]],PRIMEM[\"Greenwich\",0.0],UNIT[\"Degree\",0.0174532925199433]],PROJECTION[\"Albers\"],PARAMETER[\"false_easting\",0.0],PARAMETER[\"false_northing\",0.0],PARAMETER[\"central_meridian\",-96.0],PARAMETER[\"standard_parallel_1\",29.5],PARAMETER[\"standard_parallel_2\",45.5],PARAMETER[\"latitude_of_origin\",23.0],UNIT[\"Meter\",1.0]]"}
}