<?xml version="1.0" encoding="UTF-8" standalone="no"?>
<metadata xml:lang="en">
<Esri>
<CreaDate>20210622</CreaDate>
<CreaTime>15504300</CreaTime>
<ArcGISFormat>1.0</ArcGISFormat>
<SyncOnce>FALSE</SyncOnce>
<DataProperties>
<lineage>
<Process Date="20210614" Name="" Time="135830" ToolSource="c:\program files\arcgis\pro\Resources\ArcToolbox\toolboxes\Spatial Analyst Tools.tbx\ExtractByMask" export="">ExtractByMask "New Group Layer\ks_model_v9.img" "New Group Layer\ks_model_v7.img" N:\KSNE\Results\model\ks_model_v9a.img</Process>
</lineage>
<itemProps>
<itemLocation>
<linkage Sync="TRUE">file://E:\KDWPT\MoRAP\map\Deliverable\Kansas_Ecological_Mapping_Systems_Rev.tif</linkage>
<protocol Sync="TRUE">Local Area Network</protocol>
</itemLocation>
<itemName Sync="TRUE">Kansas_Ecological_Mapping_Systems_Rev.tif</itemName>
<nativeExtBox>
<westBL Sync="TRUE">-532433.916800</westBL>
<eastBL Sync="TRUE">122006.083200</eastBL>
<southBL Sync="TRUE">1550406.664600</southBL>
<northBL Sync="TRUE">1903636.664600</northBL>
<exTypeCode Sync="TRUE">1</exTypeCode>
</nativeExtBox>
<imsContentType Sync="TRUE" export="False">002</imsContentType>
</itemProps>
<copyHistory>
<copy date="20210622" dest="\\morap_nas\DATA3\KSNE\Results\model\ForDelivery\Kansas_Ecological_Mapping_Systems.img" source="\\morap_nas\DATA3\KSNE\Results\model\Kansas_Ecological_Mapping_Systems.img" time="15504300"/>
</copyHistory>
<coordRef>
<type Sync="TRUE">Projected</type>
<geogcsn Sync="TRUE">GCS_WGS_1984</geogcsn>
<csUnits Sync="TRUE">Linear Unit: Meter (1.000000)</csUnits>
<projcsn Sync="TRUE">WGS_1984_Albers</projcsn>
<peXml Sync="TRUE">&lt;ProjectedCoordinateSystem xsi:type='typens:ProjectedCoordinateSystem' xmlns:xsi='http://www.w3.org/2001/XMLSchema-instance' xmlns:xs='http://www.w3.org/2001/XMLSchema' xmlns:typens='http://www.esri.com/schemas/ArcGIS/10.8'&gt;&lt;WKT&gt;PROJCS[&amp;quot;WGS_1984_Albers&amp;quot;,GEOGCS[&amp;quot;GCS_WGS_1984&amp;quot;,DATUM[&amp;quot;D_WGS_1984&amp;quot;,SPHEROID[&amp;quot;WGS_1984&amp;quot;,6378137.0,298.257223563]],PRIMEM[&amp;quot;Greenwich&amp;quot;,0.0],UNIT[&amp;quot;Degree&amp;quot;,0.0174532925199433]],PROJECTION[&amp;quot;Albers&amp;quot;],PARAMETER[&amp;quot;false_easting&amp;quot;,0.0],PARAMETER[&amp;quot;false_northing&amp;quot;,0.0],PARAMETER[&amp;quot;central_meridian&amp;quot;,-96.0],PARAMETER[&amp;quot;standard_parallel_1&amp;quot;,29.5],PARAMETER[&amp;quot;standard_parallel_2&amp;quot;,45.5],PARAMETER[&amp;quot;latitude_of_origin&amp;quot;,23.0],UNIT[&amp;quot;Meter&amp;quot;,1.0]]&lt;/WKT&gt;&lt;XOrigin&gt;-16901100&lt;/XOrigin&gt;&lt;YOrigin&gt;-6972200&lt;/YOrigin&gt;&lt;XYScale&gt;266467840.99085236&lt;/XYScale&gt;&lt;ZOrigin&gt;-100000&lt;/ZOrigin&gt;&lt;ZScale&gt;10000&lt;/ZScale&gt;&lt;MOrigin&gt;-100000&lt;/MOrigin&gt;&lt;MScale&gt;10000&lt;/MScale&gt;&lt;XYTolerance&gt;0.001&lt;/XYTolerance&gt;&lt;ZTolerance&gt;0.001&lt;/ZTolerance&gt;&lt;MTolerance&gt;0.001&lt;/MTolerance&gt;&lt;HighPrecision&gt;true&lt;/HighPrecision&gt;&lt;/ProjectedCoordinateSystem&gt;</peXml>
</coordRef>
<RasterProperties>
<General>
<PixelDepth Sync="TRUE">8</PixelDepth>
<HasColormap Sync="TRUE">FALSE</HasColormap>
<CompressionType Sync="TRUE">LZW</CompressionType>
<NumBands Sync="TRUE">1</NumBands>
<Format Sync="TRUE">TIFF</Format>
<HasPyramids Sync="TRUE">TRUE</HasPyramids>
<SourceType Sync="TRUE">discrete</SourceType>
<PixelType Sync="TRUE">signed integer</PixelType>
<NoDataValue Sync="TRUE">127</NoDataValue>
</General>
</RasterProperties>
</DataProperties>
<ArcGISstyle>FGDC CSDGM Metadata</ArcGISstyle>
<SyncDate>20220908</SyncDate>
<SyncTime>12222100</SyncTime>
<ModDate>20220908</ModDate>
<ModTime>12222100</ModTime>
<scaleRange>
<minScale>150000000</minScale>
<maxScale>5000</maxScale>
</scaleRange>
<ArcGISProfile>FGDC</ArcGISProfile>
</Esri>
<mdLang>
<languageCode value="eng"/>
<countryCode Sync="TRUE" value="USA"/>
</mdLang>
<mdChar>
<CharSetCd value="004"/>
</mdChar>
<mdHrLv>
<ScopeCd value="005"/>
</mdHrLv>
<mdContact>
<rpIndName>Lee F. Elliott</rpIndName>
<rpOrgName>Missouri Resource Assessment Partnership</rpOrgName>
<rpPosName>Senior Research Specialist</rpPosName>
<rpCntInfo>
<cntPhone>
<voiceNum>573-441-2791</voiceNum>
</cntPhone>
<cntAddress addressType="physical">
<delPoint>4200 New Haven Rd.</delPoint>
<city>Columbia</city>
<adminArea>MO</adminArea>
<postCode>65201</postCode>
<country>US</country>
<eMailAdd>elliottle@missouri.edu</eMailAdd>
</cntAddress>
</rpCntInfo>
<role>
<RoleCd value="007"/>
</role>
</mdContact>
<mdDateSt Sync="TRUE">20220908</mdDateSt>
<mdStanName>ArcGIS Metadata</mdStanName>
<mdStanVer>1.0</mdStanVer>
<dataIdInfo>
<idCitation>
<resTitle Sync="TRUE">KansasEcologicalMappingSystems</resTitle>
<date>
<pubDate>2021-06-23</pubDate>
</date>
<citRespParty>
<rpOrgName>David D. Diamond, Missouri Resource Assessment Partnership, Director</rpOrgName>
<role>
<RoleCd value="006"/>
</role>
</citRespParty>
<presForm>
<PresFormCd value="005"/>
</presForm>
<presForm>
<fgdcGeoform>remote-sensing image</fgdcGeoform>
</presForm>
</idCitation>
<idAbs>&lt;DIV STYLE="text-align:Left;"&gt;&lt;DIV&gt;&lt;DIV&gt;&lt;P&gt;&lt;SPAN&gt;This map represents the vegetation and other land covers of Kansas as mapped using 10m imagery from Sentinel-2 satellites. A land cover classification of 12 classes was developed using 3 dates of imagery, training data from photo-interpretation, and RandomForest classifier. This land cover was combined with various ancillary abiotic data sets in a vector format which was produced using image segmentation. The combination of land cover and abiotic information allowed us to model vegetation at higher thematic resolution than the generalized classification produced solely from reflectance data. A total of 49 types were mapped across the region.&lt;/SPAN&gt;&lt;/P&gt;&lt;/DIV&gt;&lt;/DIV&gt;&lt;/DIV&gt;</idAbs>
<idPurp>This layer represents a map of the current vegetation of Kansas with the addition of developed lands, lands under agricultural production, and types lacking vegetative cover. The data was developed using Sentinel-2 imagery from 2017/2018 in conjunction with field collected data and various abiotic ancillary data sets including gSSURGO.</idPurp>
<idCredit>Diamond, D.D., L.F. Elliott, G. Steinauer, K. Kindscher, P. Hanberry, D. True, and M. Sunde</idCredit>
<idStatus>
<ProgCd value="001"/>
</idStatus>
<idPoC>
<rpIndName>David D. Diamond</rpIndName>
<rpOrgName>Missouri Resource Assessment Partnership</rpOrgName>
<rpPosName>Director</rpPosName>
<rpCntInfo>
<cntPhone>
<voiceNum tddtty="">573-876-1862</voiceNum>
</cntPhone>
<cntAddress addressType="physical">
<delPoint>4200 New Haven Rd.</delPoint>
<city>Columbia</city>
<adminArea>MO</adminArea>
<postCode>65203</postCode>
<country>US</country>
<eMailAdd>diamondd@missouri.edu</eMailAdd>
</cntAddress>
</rpCntInfo>
<role>
<RoleCd value="007"/>
</role>
</idPoC>
<resMaint>
<maintFreq>
<MaintFreqCd value="011"/>
</maintFreq>
</resMaint>
<themeKeys>
<thesaName>
<resTitle>ISO 19115 Topic Categories</resTitle>
</thesaName>
<keyword>biota</keyword>
</themeKeys>
<themeKeys>
<keyword>Nebraska</keyword>
<keyword>Vegetation</keyword>
<keyword>Ecological Mapping Systems</keyword>
<keyword>Kansas</keyword>
</themeKeys>
<searchKeys>
<keyword>biota</keyword>
<keyword>Vegetation</keyword>
<keyword>Ecological Mapping Systems</keyword>
<keyword>Kansas</keyword>
<keyword>land cover</keyword>
<keyword>mapping</keyword>
</searchKeys>
<dataLang>
<languageCode value="eng"/>
<countryCode Sync="TRUE" value="USA"/>
</dataLang>
<envirDesc Sync="TRUE"> Version 6.2 (Build 9200) ; Esri ArcGIS 10.8.1.14362</envirDesc>
<dataExt>
<geoEle>
<GeoBndBox>
<westBL>-104.287103</westBL>
<eastBL>-94.490091</eastBL>
<southBL>36.757261</southBL>
<northBL>43.249392</northBL>
</GeoBndBox>
</geoEle>
</dataExt>
<dataExt>
<exDesc>Earliest satellite imagery used 2017-05-07</exDesc>
<tempEle>
<TempExtent>
<exTemp>
<TM_Period>
<tmBegin>2017-05-07</tmBegin>
<tmEnd>2021-06-23</tmEnd>
</TM_Period>
</exTemp>
</TempExtent>
</tempEle>
</dataExt>
<spatRpType>
<SpatRepTypCd Sync="TRUE" value="002"/>
</spatRpType>
<dataExt>
<geoEle>
<GeoBndBox esriExtentType="search">
<exTypeCode Sync="TRUE">1</exTypeCode>
<westBL Sync="TRUE">-102.295697</westBL>
<eastBL Sync="TRUE">-94.555352</eastBL>
<northBL Sync="TRUE">40.148686</northBL>
<southBL Sync="TRUE">36.846045</southBL>
</GeoBndBox>
</geoEle>
</dataExt>
<dataChar>
<CharSetCd value="004"/>
</dataChar>
<tpCat>
<TopicCatCd value="002"/>
</tpCat>
<resConst>
<Consts>
<useLimit/>
</Consts>
</resConst>
</dataIdInfo>
<dqInfo>
<dqScope>
<scpLvl>
<ScopeCd value="005"/>
</scpLvl>
</dqScope>
<dataLineage>
<prcStep>
<stepDesc>Three dates of Sentinel-2 Level-1C images were used to classify the landcover into 12 landcover classes. One leaf-off and two leaf-on images were used, all collected in 2017-2018. In addition, 3 indices were calculated (NDVI, EVI2, and NDWI) for each date and were included in the stack used to classify. RandomForest was used to classify the stack using photo-interpreted training points, each point classed into 1 of the 12 landcover classes. The 12 landcover classes were water, urban low, urban high, barren, deciduous woodland, evergreen woodland, shrubland, sand sagebrush, herbaceous, cool-season grassland, wet herbaceous, and cropland.</stepDesc>
<stepDateTm>2020-08-06T00:00:00</stepDateTm>
</prcStep>
<prcStep>
<stepDesc>Image-objects (homogeneous appearing polygons) based on the Sentinel imagery were constructed using eCognition (https://geospatial.trimble.com/products-and-solutions/ecognition). Each polygon was attributed with the majority landcover from the RandomForest classification, percent slope calculated from 10m DEM, percent wooded based on a 10m summary of high resolution products (https://doi.org/10.2737/RDS-2017-0025, https://www.fs.usda.gov/rds/archive/Catalog/RDS-2019-0038), compound topographic index (10m) calculated using SAGA (http://www.saga-gis.org/en/index.html), sinks from 10m dem, and soil ecogroup. The soil ecogroups were produced by grouping soil Ecoclasses from SSURGO database .(https://www.nrcs.usda.gov/wps/portal/nrcs/detail/soils/survey/?cid=nrcs142p2_053627) into units that are likely to support similar vegetation communities. Development of the ecogroups required evaluation of soil polygons with respect to texture, topographic position, geographic location, and other characteristics.</stepDesc>
<stepDateTm>2020-12-31</stepDateTm>
</prcStep>
<prcStep>
<stepDesc>Some hand corrections of the landcover were made to the objects by selecting them based on their relationship to ancillary datasets. Objects were dissolved on landcover, and those with natural landcover that occurred where the 2016 National Land Cover Database (https://www.usgs.gov/centers/eros/science/national-land-cover-database?qt-science_center_objects=0#qt-science_center_objects) indicated crop production were heads-up evaluated and changed to cropland where appropriate. This was done on larger polygons down to a size of around 0.5 ha. The aggregation of high resolution woody cover to a 10m percent woody cover was used to evaluate objects that were less than 25% woody cover according to high resolution data, but where the classification indicated a woody cover type. These objects were evaluated using high-resolution imagery (ESRI Basemap Imagery) and changed to a non-woody covertype where appropriate.</stepDesc>
<stepDateTm>2021-04-30</stepDateTm>
</prcStep>
<prcStep>
<stepDesc>Each polygon was then assigned to a mapping target (Ecological Mapping System, EMS) based on the conditions determined from the attributes of the polygon. Polygons are then converted to 10 m raster.</stepDesc>
<stepDateTm>2021-05-21T00:00:00</stepDateTm>
</prcStep>
<prcStep>
<stepDesc>Urban grasses, trees, and shrubs were mapped using a mask developed from the overlap of NLCD impervious (https://www.mrlc.gov/data/type/urban-imperviousness) with municipality boundaries (KS - https://catalog.data.gov/dataset/tiger-line-shapefile-2017-state-kansas-current-place-state-based; NE - https://www.nebraskamap.gov/datasets/nebraska::city-boundaries/about). Tree, shrub, and herbaceous pixels were coded to “Urban Trees and Shrubs” and “Urban Grasses”, respectively, using this mask.</stepDesc>
<stepDateTm>2021-06-04T00:00:00</stepDateTm>
</prcStep>
<prcStep>
<stepDesc>Roads were added by rasterizing selected line data to 10 m pixels from the National Transportation Dataset (https://catalog.data.gov/dataset/usgs-national-transportation-dataset-ntd-downloadable-data-collection1) and overlaying the result on the layer.</stepDesc>
<stepDateTm>2021-06-14</stepDateTm>
</prcStep>
<prcStep>
<stepDesc>Kansas Post-Classification Revisions Made:
1. Changed Barren to Urban High Density using an Urban Mask and buffered Stream Mask (created by buffering increasing distance based on stream order).
2. Redefined Barren Class definition to include sand roads, crushed limestone, dried waterbodies, and rock outcrops.
3. Changed Sand Pit to High Density Urban using an Urban Mask and unselecting those areas intersecting with larger water bodies (GT 10 acres). 4. Changed Unglaciated Upland Grassland to Flint hill Tallgrass in select areas of Riley and Pottawatomie Counties.
5. Changed Mixedgrass Prairie to Arkansas Tallgrass in select areas of Harvey, Sedgwick, Sumner, and Cowley Counties. 6. Changed Chalkflat Mixedgrass Prairie to Mixedgrass Prairie Breaks Grassland in Clark County. 7. Changed Mixedgrass Prairie to Sandhills Prairie in select areas in Dickenson County. 8. Added a new class “Western Center Pivot Grassland Corners” that represents the corners of center pivots. An irrigated land mask was created using three data sources including the 2015 CLU and the 2017 Landsat-based Irrigation Dataset (LANID). The PLSS was subdivided and intersected with the irrigation mask to select grasslands withing these parcels to change to the new class. </stepDesc>
<stepRat>The Kansas Biological Survey carefully analyzed the distribution of each EMS in the state. Several revisions were made to refine the class distributions and classifications. </stepRat>
<stepDateTm>2021-12-01T06:00:00</stepDateTm>
<stepProc>
<rpIndName>Dana Peterson</rpIndName>
<rpOrgName>Kansas Biological Survey</rpOrgName>
</stepProc>
</prcStep>
</dataLineage>
</dqInfo>
<spatRepInfo>
<Georect>
<numDims Sync="TRUE">2</numDims>
<axisDimension type="001">
<dimSize Sync="TRUE">35323</dimSize>
<dimResol>
<value Sync="TRUE" uom="m">10.000000</value>
</dimResol>
</axisDimension>
<axisDimension type="002">
<dimSize Sync="TRUE">65444</dimSize>
<dimResol>
<value Sync="TRUE" uom="m">10.000000</value>
</dimResol>
</axisDimension>
<cellGeo>
<CellGeoCd Sync="TRUE" value="002"/>
</cellGeo>
<tranParaAv Sync="TRUE">1</tranParaAv>
<chkPtAv Sync="TRUE">0</chkPtAv>
<cornerPts>
<pos Sync="TRUE">-532433.916800 1550406.664600</pos>
</cornerPts>
<cornerPts>
<pos Sync="TRUE">-532433.916800 1903636.664600</pos>
</cornerPts>
<cornerPts>
<pos Sync="TRUE">122006.083200 1903636.664600</pos>
</cornerPts>
<cornerPts>
<pos Sync="TRUE">122006.083200 1550406.664600</pos>
</cornerPts>
<centerPt>
<pos Sync="TRUE">-205213.916800 1727021.664600</pos>
</centerPt>
<ptInPixel>
<PixOrientCd Sync="TRUE" value="001"/>
</ptInPixel>
</Georect>
</spatRepInfo>
<eainfo>
<detailed Name="Kansas_Ecological_Mapping_Systems_Rev.tif.vat">
<enttyp>
<enttypl Sync="TRUE">Kansas_Ecological_Mapping_Systems_Rev.tif.vat</enttypl>
<enttypt Sync="TRUE">Table</enttypt>
<enttypc Sync="TRUE">49</enttypc>
<enttypd>Ecological Mapping Systems for the state of Kansas.</enttypd>
<enttypds>Final report</enttypds>
</enttyp>
<attr>
<attrlabl>Value</attrlabl>
<attrdef>Code referencing vegetation/land cover type.</attrdef>
<attrdefs>Interpretive materials</attrdefs>
<attalias Sync="TRUE">Value</attalias>
<attrtype Sync="TRUE">Integer</attrtype>
<attwidth Sync="TRUE">10</attwidth>
<atprecis Sync="TRUE">10</atprecis>
<attscale Sync="TRUE">0</attscale>
<attrdomv>
<edom>
<edomv>1</edomv>
<edomvd>Mixed Oak-Hickory Woodland and Forest</edomvd>
<edomvds>Final report</edomvds>
</edom>
<edom>
<edomv>3</edomv>
<edomvd>Eastern Floodplain Forest (North)</edomvd>
<edomvds>Final report</edomvds>
</edom>
<edom>
<edomv>5</edomv>
<edomvd>Eastern Wetland</edomvd>
<edomvds>Final report</edomvds>
</edom>
<edom>
<edomv>6</edomv>
<edomvd>Ozark Woodland and Forest</edomvd>
<edomvds>Final report</edomvds>
</edom>
<edom>
<edomv>7</edomv>
<edomvd>Crosstimbers Woodland</edomvd>
<edomvds>Final report</edomvds>
</edom>
<edom>
<edomv>8</edomv>
<edomvd>Smoky Hills Tallgrass Prairie</edomvd>
<edomvds>Final report</edomvds>
</edom>
<edom>
<edomv>9</edomv>
<edomvd>Eastern Floodplain Ruderal Grassland</edomvd>
<edomvds>Final report</edomvds>
</edom>
<edom>
<edomv>11</edomv>
<edomvd>Reservoirs, Ponds and Rivers</edomvd>
<edomvds>Final report</edomvds>
</edom>
<edom>
<edomv>12</edomv>
<edomvd>Glaciated Upland Grassland</edomvd>
<edomvds>Final report</edomvds>
</edom>
<edom>
<edomv>18</edomv>
<edomvd>Mixedgrass Prairie</edomvd>
<edomvds>Final report</edomvds>
</edom>
<edom>
<edomv>20</edomv>
<edomvd>Mixedgrass Prairie Breaks Grassland</edomvd>
<edomvds>Final report</edomvds>
</edom>
<edom>
<edomv>21</edomv>
<edomvd>Urban Low Intensity</edomvd>
<edomvds>Final report</edomvds>
</edom>
<edom>
<edomv>22</edomv>
<edomvd>Urban High Intensity</edomvd>
<edomvds>Final report</edomvds>
</edom>
<edom>
<edomv>25</edomv>
<edomvd>Cimarron Breaks Redcedar Woodland/Shrubland</edomvd>
<edomvds>Final report</edomvds>
</edom>
<edom>
<edomv>26</edomv>
<edomvd>Cimarron Breaks Grassland</edomvd>
<edomvds>Final report</edomvds>
</edom>
<edom>
<edomv>27</edomv>
<edomvd>Great Plains Cliff and Outcrop</edomvd>
<edomvds>Final report</edomvds>
</edom>
<edom>
<edomv>28</edomv>
<edomvd>Playa</edomvd>
<edomvds>Final report</edomvds>
</edom>
<edom>
<edomv>31</edomv>
<edomvd>Barren</edomvd>
<edomvds>Final report</edomvds>
</edom>
<edom>
<edomv>32</edomv>
<edomvd>Mixed Chinquapin Oak-Bur Oak Ravine Woodland</edomvd>
<edomvds>Final report</edomvds>
</edom>
<edom>
<edomv>33</edomv>
<edomvd>Smoky Hills Oak Woodland</edomvd>
<edomvds>Final report</edomvds>
</edom>
<edom>
<edomv>34</edomv>
<edomvd>Saline Grassland and Marsh</edomvd>
<edomvds>Final report</edomvds>
</edom>
<edom>
<edomv>37</edomv>
<edomvd>Sandsage Shrubland/Grassland</edomvd>
<edomvds>Final report</edomvds>
</edom>
<edom>
<edomv>38</edomv>
<edomvd>Sandhills Prairie</edomvd>
<edomvds>Final report</edomvds>
</edom>
<edom>
<edomv>44</edomv>
<edomvd>Shortgrass Prairie</edomvd>
<edomvds>Final report</edomvds>
</edom>
<edom>
<edomv>53</edomv>
<edomvd>Western Floodplain Forest</edomvd>
<edomvds>Final report</edomvds>
</edom>
<edom>
<edomv>54</edomv>
<edomvd>Western Wetland</edomvd>
<edomvds>Final report</edomvds>
</edom>
<edom>
<edomv>55</edomv>
<edomvd>Western Floodplain Shrubland/Young Woodland</edomvd>
<edomvds>Final report</edomvds>
</edom>
<edom>
<edomv>59</edomv>
<edomvd>Mixedgrass Breaks Redcedar Woodland/Shrubland</edomvd>
<edomvds>Final report</edomvds>
</edom>
<edom>
<edomv>60</edomv>
<edomvd>Ruderal Deciduous Shrubland/Young Woodland</edomvd>
<edomvds>Final report</edomvds>
</edom>
<edom>
<edomv>61</edomv>
<edomvd>Ruderal Deciduous Woodland</edomvd>
<edomvds>Final report</edomvds>
</edom>
<edom>
<edomv>62</edomv>
<edomvd>Ruderal Redcedar Woodland/Shrubland</edomvd>
<edomvds>Final report</edomvds>
</edom>
<edom>
<edomv>69</edomv>
<edomvd>Floodplain Sand Wash/Sandpit</edomvd>
<edomvds>Final report</edomvds>
</edom>
<edom>
<edomv>72</edomv>
<edomvd>Cool-season Grasses</edomvd>
<edomvds>Final report</edomvds>
</edom>
<edom>
<edomv>78</edomv>
<edomvd>Chalkflat Mixedgrass Prairie</edomvd>
<edomvds>Final rport</edomvds>
</edom>
<edom>
<edomv>81</edomv>
<edomvd>Cropland</edomvd>
<edomvds>Final report</edomvds>
</edom>
<edom>
<edomv>84</edomv>
<edomvd>Sparse and Barren Dunes</edomvd>
<edomvds>Final report</edomvds>
</edom>
<edom>
<edomv>86</edomv>
<edomvd>Green Ash-Elm-Hackberry Canyon Bottomland Woodland</edomvd>
<edomvds>Final report</edomvds>
</edom>
<edom>
<edomv>87</edomv>
<edomvd>Salt Flat Barren</edomvd>
<edomvds>Final report</edomvds>
</edom>
<edom>
<edomv>89</edomv>
<edomvd>Cimarron Breaks Deciduous Shrubland</edomvd>
<edomvds>Final report</edomvds>
</edom>
<edom>
<edomv>94</edomv>
<edomvd>Flint Hills Tallgrass Prairie</edomvd>
<edomvds>Final report</edomvds>
</edom>
<edom>
<edomv>99</edomv>
<edomvd>Unglaciated Eastern Upland Grassland</edomvd>
<edomvds>Final report</edomvds>
</edom>
<edom>
<edomv>101</edomv>
<edomvd>Eastern Floodplain Forest (South)</edomvd>
<edomvds>Final report</edomvds>
</edom>
<edom>
<edomv>102</edomv>
<edomvd>Ark River Tallgrass Prairie/Pasture</edomvd>
<edomvds>Final report</edomvds>
</edom>
<edom>
<edomv>106</edomv>
<edomvd>Western Lowland Grassland</edomvd>
<edomvds>Final report</edomvds>
</edom>
<edom>
<edomv>111</edomv>
<edomvd>Playa/Cropped</edomvd>
<edomvds>Final report</edomvds>
</edom>
<edom>
<edomv>112</edomv>
<edomvd>Cimarron Breaks Sparse Vegetation and Barren</edomvd>
<edomvds>Final report</edomvds>
</edom>
<edom>
<edomv>114</edomv>
<edomvd>Urban Trees and Shrubs</edomvd>
<edomvds>Final report</edomvds>
</edom>
<edom>
<edomv>115</edomv>
<edomvd>Urban Grasses</edomvd>
<edomvds>Final report</edomvds>
</edom>
<edom>
<edomv>35</edomv>
<edomvd>Western Center Pivot Grassland Corners</edomvd>
<edomvds>Final Report</edomvds>
</edom>
</attrdomv>
</attr>
<attr>
<attrlabl>OID</attrlabl>
<attrdef>Internal feature number.</attrdef>
<attrdefs>Esri</attrdefs>
<attrdomv>
<udom>Sequential unique whole numbers that are automatically generated.</udom>
</attrdomv>
<attalias Sync="TRUE">OID</attalias>
<attrtype Sync="TRUE">OID</attrtype>
<attwidth Sync="TRUE">4</attwidth>
<atprecis Sync="TRUE">0</atprecis>
<attscale Sync="TRUE">0</attscale>
</attr>
<attr>
<attrlabl>Count</attrlabl>
<attrdef>Number of pixels for each class</attrdef>
<attrdefs>Automatically calculated</attrdefs>
<attrdomv>
<rdom>
<rdommin>4130</rdommin>
<rdommax>1657087791</rdommax>
</rdom>
</attrdomv>
<attalias Sync="TRUE">Count</attalias>
<attrtype Sync="TRUE">Double</attrtype>
<attwidth Sync="TRUE">19</attwidth>
<atprecis Sync="TRUE">0</atprecis>
<attscale Sync="TRUE">0</attscale>
</attr>
<attr>
<attrlabl Sync="TRUE">Name</attrlabl>
<attalias Sync="TRUE">Name</attalias>
<attrtype Sync="TRUE">String</attrtype>
<attwidth Sync="TRUE">80</attwidth>
<atprecis Sync="TRUE">0</atprecis>
<attscale Sync="TRUE">0</attscale>
<attrdef>Name of Ecological Mapping System.</attrdef>
<attrdefs>Final report</attrdefs>
<attrdomv>
<edom>
<edomv>Ark River Tallgrass Prairie/Pasture</edomv>
<edomvd>Code: 102</edomvd>
<edomvds>Final report</edomvds>
</edom>
<edom>
<edomv>Barren</edomv>
<edomvd>Code: 31</edomvd>
<edomvds>Final report</edomvds>
</edom>
<edom>
<edomv>Chalkflat Mixedgrass Prairie</edomv>
<edomvd>Code: 78</edomvd>
<edomvds>Final report</edomvds>
</edom>
<edom>
<edomv>Cimarron Breaks Deciduous Shrubland</edomv>
<edomvd>Code 89</edomvd>
<edomvds>Final report</edomvds>
</edom>
<edom>
<edomv>Cimarron Breaks Grassland</edomv>
<edomvd>Code: 26</edomvd>
<edomvds>Final report</edomvds>
</edom>
<edom>
<edomv>Cimarron Breaks Redcedar Woodland/Shrubland</edomv>
<edomvd>Code: 25</edomvd>
<edomvds>Final report</edomvds>
</edom>
<edom>
<edomv>Cimarron Breaks Sparse Vegetation and Barren</edomv>
<edomvd>Code: 112</edomvd>
<edomvds>Final report</edomvds>
</edom>
