<?xml version="1.0" encoding="UTF-8" standalone="no"?>
<metadata xml:lang="en">
<Esri>
<MetaID>{2090DF19-6800-4050-9F23-1892BEE2930C}</MetaID>
<CreaDate>20090714</CreaDate>
<CreaTime>09204900</CreaTime>
<SyncOnce>FALSE</SyncOnce>
<SyncDate>20090714</SyncDate>
<SyncTime>14380000</SyncTime>
<ModDate>20090714</ModDate>
<ModTime>14380000</ModTime>
</Esri>
<idinfo>
<native Sync="FALSE">ESRI ArcCatalog 9.3.1.3000</native>
<descript>
<langdata Sync="TRUE">en</langdata>
<abstract>REQUIRED: A brief narrative summary of the data set.</abstract>
<purpose>REQUIRED: A summary of the intentions with which the data set was developed.</purpose>
</descript>
<citation>
<citeinfo>
<origin>REQUIRED: The name of an organization or individual that developed the data set.</origin>
<pubdate>REQUIRED: The date when the data set is published or otherwise made available for release.</pubdate>
<title Sync="TRUE">clinton_extent_elev_mn878_mx908_clean0.img</title>
<ftname Sync="TRUE">clinton_extent_elev_mn878_mx908_clean0.img</ftname>
<onlink Sync="FALSE">withheld</onlink>
<geoform Sync="TRUE">remote-sensing image</geoform>
</citeinfo>
</citation>
<timeperd>
<current>REQUIRED: The basis on which the time period of content information is determined.</current>
<timeinfo>
<sngdate>
<caldate>REQUIRED: The year (and optionally month, or month and day) for which the data set corresponds to the ground.</caldate>
</sngdate>
</timeinfo>
</timeperd>
<status>
<progress>REQUIRED: The state of the data set.</progress>
<update>REQUIRED: The frequency with which changes and additions are made to the data set after the initial data set is completed.</update>
</status>
<spdom>
<bounding>
<westbc Sync="TRUE">-95.622685</westbc>
<eastbc Sync="TRUE">-95.313981</eastbc>
<northbc Sync="TRUE">39.002130</northbc>
<southbc Sync="TRUE">38.826759</southbc>
</bounding>
<lboundng>
<leftbc Sync="TRUE">-95.622685</leftbc>
<rightbc Sync="TRUE">-95.313981</rightbc>
<bottombc Sync="TRUE">38.826759</bottombc>
<topbc Sync="TRUE">39.002130</topbc>
</lboundng>
</spdom>
<keywords>
<theme>
<themekt>REQUIRED: Reference to a formally registered thesaurus or a similar authoritative source of theme keywords.</themekt>
<themekey>REQUIRED: Common-use word or phrase used to describe the subject of the data set.</themekey>
</theme>
</keywords>
<accconst>REQUIRED: Restrictions and legal prerequisites for accessing the data set.</accconst>
<useconst>REQUIRED: Restrictions and legal prerequisites for using the data set after access is granted.</useconst>
<natvform Sync="TRUE">Raster Dataset</natvform>
</idinfo>
<dataIdInfo>
<envirDesc Sync="FALSE">ESRI ArcCatalog 9.3.1.3000</envirDesc>
<dataLang>
<languageCode Sync="TRUE" value="en">
</languageCode>
</dataLang>
<idCitation>
<resTitle Sync="TRUE">clinton_extent_elev_mn878_mx908_clean0.img</resTitle>
<presForm>
<PresFormCd Sync="TRUE" value="005">
</PresFormCd>
</presForm>
</idCitation>
<spatRpType>
<SpatRepTypCd Sync="TRUE" value="002">
</SpatRepTypCd>
</spatRpType>
<dataExt>
<geoEle>
<GeoBndBox esriExtentType="native">
<westBL Sync="TRUE">-95.622685</westBL>
<eastBL Sync="TRUE">-95.313981</eastBL>
<northBL Sync="TRUE">39.00213</northBL>
<southBL Sync="TRUE">38.826759</southBL>
<exTypeCode Sync="TRUE">1</exTypeCode>
</GeoBndBox>
</geoEle>
</dataExt>
<geoBox esriExtentType="decdegrees">
<westBL Sync="TRUE">-95.622685</westBL>
<eastBL Sync="TRUE">-95.313981</eastBL>
<northBL Sync="TRUE">39.00213</northBL>
<southBL Sync="TRUE">38.826759</southBL>
<exTypeCode Sync="TRUE">1</exTypeCode>
</geoBox>
<idAbs>This dataset shows a continuum of lake extents for Clinton Lake in Douglas County, Kansas. Lake extent is shown as a function of lake surface elevation, ranging from the multipurpose pool (878 ft) to beyond the flood control pool (903.4 ft).</idAbs>
<idPurp>Clinton Lake Inundation Elevation Map (ft)</idPurp>
<idCredit>Jude Kastens - Kansas Applied Remote Sensing</idCredit>
<resConst>
<Consts>
<useLimit/>
</Consts>
</resConst>
</dataIdInfo>
<metainfo>
<langmeta Sync="TRUE">en</langmeta>
<metstdn Sync="TRUE">FGDC Content Standards for Digital Geospatial Metadata</metstdn>
<metstdv Sync="TRUE">FGDC-STD-001-1998</metstdv>
<mettc Sync="TRUE">local time</mettc>
<metc>
<cntinfo>
<cntorgp>
<cntper>REQUIRED: The person responsible for the metadata information.</cntper>
<cntorg>REQUIRED: The organization responsible for the metadata information.</cntorg>
</cntorgp>
<cntaddr>
<addrtype>REQUIRED: The mailing and/or physical address for the organization or individual.</addrtype>
<city>REQUIRED: The city of the address.</city>
<state>REQUIRED: The state or province of the address.</state>
<postal>REQUIRED: The ZIP or other postal code of the address.</postal>
</cntaddr>
<cntvoice>REQUIRED: The telephone number by which individuals can speak to the organization or individual.</cntvoice>
</cntinfo>
</metc>
<metd Sync="TRUE">20090714</metd>
<metextns>
<onlink Sync="TRUE">http://www.esri.com/metadata/esriprof80.html</onlink>
<metprof Sync="TRUE">ESRI Metadata Profile</metprof>
</metextns>
</metainfo>
<mdLang>
<languageCode Sync="TRUE" value="en">
</languageCode>
</mdLang>
<mdStanName Sync="TRUE">ISO 19115 Geographic Information - Metadata</mdStanName>
<mdStanVer Sync="TRUE">DIS_ESRI1.0</mdStanVer>
<mdChar>
<CharSetCd Sync="TRUE" value="004">
</CharSetCd>
</mdChar>
<mdHrLv>
<ScopeCd Sync="TRUE" value="005">
</ScopeCd>
</mdHrLv>
<mdHrLvName Sync="TRUE">dataset</mdHrLvName>
<distInfo>
<distributor>
<distorTran>
<onLineSrc>
<linkage Sync="FALSE">withheld</linkage>
<protocol Sync="TRUE">Local Area Network</protocol>
<orDesc Sync="TRUE">002</orDesc>
</onLineSrc>
<transSize Sync="TRUE">0.000</transSize>
</distorTran>
<distorFormat>
<formatName Sync="TRUE">Raster Dataset</formatName>
</distorFormat>
</distributor>
</distInfo>
<distinfo>
<resdesc Sync="TRUE">Downloadable Data</resdesc>
<stdorder>
<digform>
<digtinfo>
<transize Sync="TRUE">0.000</transize>
<dssize Sync="TRUE">0.000</dssize>
</digtinfo>
</digform>
</stdorder>
</distinfo>
<spdoinfo>
<direct Sync="TRUE">Raster</direct>
<rastinfo>
<rasttype Sync="TRUE">Pixel</rasttype>
<rowcount Sync="TRUE">1894</rowcount>
<colcount Sync="TRUE">3334</colcount>
<rastxsz Sync="TRUE">0.000093</rastxsz>
<rastysz Sync="TRUE">0.000093</rastysz>
<rastbpp Sync="TRUE">32</rastbpp>
<vrtcount Sync="TRUE">1</vrtcount>
<rastorig Sync="TRUE">Upper Left</rastorig>
<rastcmap Sync="TRUE">FALSE</rastcmap>
<rastcomp Sync="TRUE">None</rastcomp>
<rastband Sync="TRUE">1</rastband>
<rastdtyp Sync="TRUE">pixel RGB</rastdtyp>
<rastplyr Sync="TRUE">TRUE</rastplyr>
<rastifor Sync="TRUE">IMAGINE Image</rastifor>
</rastinfo>
</spdoinfo>
<spref>
<horizsys>
<cordsysn>
<geogcsn Sync="TRUE">GCS_North_American_1983</geogcsn>
</cordsysn>
<geograph>
<geogunit Sync="TRUE">Decimal degrees</geogunit>
<latres Sync="TRUE">0.000000</latres>
<longres Sync="TRUE">0.000000</longres>
</geograph>
<geodetic>
<horizdn Sync="TRUE">North American Datum of 1983</horizdn>
<ellips Sync="TRUE">Geodetic Reference System 80</ellips>
<semiaxis Sync="TRUE">6378137.000000</semiaxis>
<denflat Sync="TRUE">298.257222</denflat>
</geodetic>
<planar>
<planci>
<plance Sync="TRUE">row and column</plance>
<coordrep>
<absres Sync="TRUE">0.000093</absres>
<ordres Sync="TRUE">0.000093</ordres>
</coordrep>
</planci>
</planar>
</horizsys>
</spref>
<refSysInfo>
<RefSystem>
<refSysID>
<identCode Sync="TRUE">GCS_North_American_1983</identCode>
</refSysID>
</RefSystem>
</refSysInfo>
<spatRepInfo>
<GridSpatRep>
<numDims Sync="TRUE">2</numDims>
<cellGeo>
<CellGeoCd Sync="TRUE" value="002">
</CellGeoCd>
</cellGeo>
<tranParaAv Sync="TRUE">1</tranParaAv>
<axDimProps>
<Dimen>
<dimName>
<DimNameTypCd Sync="TRUE" value="002">
</DimNameTypCd>
</dimName>
<dimSize Sync="TRUE">3334</dimSize>
<dimResol>
<value Sync="TRUE">0.000093</value>
<uom>
<UomLength>
<uomName Sync="TRUE">Degree</uomName>
</UomLength>
</uom>
</dimResol>
</Dimen>
<Dimen>
<dimName>
<DimNameTypCd Sync="TRUE" value="001">
</DimNameTypCd>
</dimName>
<dimSize Sync="TRUE">1894</dimSize>
<dimResol>
<value Sync="TRUE">0.000093</value>
<uom>
<UomLength>
<uomName Sync="TRUE">Degree</uomName>
</UomLength>
</uom>
</dimResol>
</Dimen>
</axDimProps>
</GridSpatRep>
</spatRepInfo>
<mdDateSt Sync="TRUE">20090714</mdDateSt>
</metadata>
